BEGIN:VCALENDAR
VERSION:2.0
PRODID:-//Cortland Free Library - ECPv6.15.17.1//NONSGML v1.0//EN
CALSCALE:GREGORIAN
METHOD:PUBLISH
X-WR-CALNAME:Cortland Free Library
X-ORIGINAL-URL:https://cortlandfreelibrary.org
X-WR-CALDESC:Events for Cortland Free Library
REFRESH-INTERVAL;VALUE=DURATION:PT1H
X-Robots-Tag:noindex
X-PUBLISHED-TTL:PT1H
BEGIN:VTIMEZONE
TZID:UTC
BEGIN:STANDARD
TZOFFSETFROM:+0000
TZOFFSETTO:+0000
TZNAME:UTC
DTSTART:20210101T000000
END:STANDARD
END:VTIMEZONE
BEGIN:VEVENT
DTSTART;TZID=UTC:20220430T110000
DTEND;TZID=UTC:20220430T120000
DTSTAMP:20260421T081414
CREATED:20220322T210242Z
LAST-MODIFIED:20220322T210242Z
UID:10001564-1651316400-1651320000@cortlandfreelibrary.org
SUMMARY:Diversity Reading Day
DESCRIPTION:Join us for a read aloud of Bedtime Bonnet. Learn about different hair and headwear with activities and a craft. Presented by Cortland YWCA in partnership with Cortland Free Library. All ages and families are welcome but this program is designed for children ages 3 – 8 yrs. Registration is required.
URL:https://cortlandfreelibrary.org/event/diversity-reading-day/
LOCATION:Cortland Free Library\, 32 Church Street\, Cortland\, NY\, 13045\, United States
CATEGORIES:Youth Services Program
ATTACH;FMTTYPE=image/jpeg:https://cortlandfreelibrary.org/wp-content/uploads/2022/03/Bedtime-Bonnet.jpg
END:VEVENT
END:VCALENDAR