BEGIN:VCALENDAR
VERSION:2.0
PRODID:-//Cortland Free Library - ECPv6.15.17.1//NONSGML v1.0//EN
CALSCALE:GREGORIAN
METHOD:PUBLISH
X-ORIGINAL-URL:https://cortlandfreelibrary.org
X-WR-CALDESC:Events for Cortland Free Library
REFRESH-INTERVAL;VALUE=DURATION:PT1H
X-Robots-Tag:noindex
X-PUBLISHED-TTL:PT1H
BEGIN:VTIMEZONE
TZID:America/New_York
BEGIN:DAYLIGHT
TZOFFSETFROM:-0500
TZOFFSETTO:-0400
TZNAME:EDT
DTSTART:20210314T070000
END:DAYLIGHT
BEGIN:STANDARD
TZOFFSETFROM:-0400
TZOFFSETTO:-0500
TZNAME:EST
DTSTART:20211107T060000
END:STANDARD
BEGIN:DAYLIGHT
TZOFFSETFROM:-0500
TZOFFSETTO:-0400
TZNAME:EDT
DTSTART:20220313T070000
END:DAYLIGHT
BEGIN:STANDARD
TZOFFSETFROM:-0400
TZOFFSETTO:-0500
TZNAME:EST
DTSTART:20221106T060000
END:STANDARD
BEGIN:DAYLIGHT
TZOFFSETFROM:-0500
TZOFFSETTO:-0400
TZNAME:EDT
DTSTART:20230312T070000
END:DAYLIGHT
BEGIN:STANDARD
TZOFFSETFROM:-0400
TZOFFSETTO:-0500
TZNAME:EST
DTSTART:20231105T060000
END:STANDARD
END:VTIMEZONE
BEGIN:VTIMEZONE
TZID:UTC
BEGIN:STANDARD
TZOFFSETFROM:+0000
TZOFFSETTO:+0000
TZNAME:UTC
DTSTART:20210101T000000
END:STANDARD
END:VTIMEZONE
BEGIN:VEVENT
DTSTART;TZID=America/New_York:20220815T093000
DTEND;TZID=America/New_York:20220815T200000
DTSTAMP:20260423T081414
CREATED:20221122T174142Z
LAST-MODIFIED:20221122T174142Z
UID:10001877-1660555800-1660593600@cortlandfreelibrary.org
SUMMARY:Art Show:  Two Pals Painting: Sharing a love of painting and the outdoors
DESCRIPTION:Come see works by Sandra Cowan and Danielle Bellumori in the library’s gallery. This exhibit will be on display through August.
URL:https://cortlandfreelibrary.org/event/art-show-two-pals-painting-sharing-a-love-of-painting-and-the-outdoors/2022-08-15/
LOCATION:Cortland Free Library\, 32 Church Street\, Cortland\, NY\, 13045\, United States
CATEGORIES:Art Exhibit
ATTACH;FMTTYPE=image/png:https://cortlandfreelibrary.org/wp-content/uploads/2022/07/August-22-Sandra-and-Danielle.png
END:VEVENT
BEGIN:VEVENT
DTSTART;TZID=UTC:20220815T180000
DTEND;TZID=UTC:20220815T193000
DTSTAMP:20260423T081414
CREATED:20220112T013825Z
LAST-MODIFIED:20240313T135203Z
UID:10001155-1660586400-1660591800@cortlandfreelibrary.org
SUMMARY:Social Knitting
DESCRIPTION:Why work alone when you can work with others? Knitting\, crocheting\, sewing – bring whatever it is you are working on! Open to all skill levels (ages 12 and up). The group meets every Monday evening at 6 p.m.
URL:https://cortlandfreelibrary.org/event/social-knitting-2/2022-08-15/
LOCATION:Cortland Free Library\, 32 Church Street\, Cortland\, NY\, 13045\, United States
CATEGORIES:Adult Services Program
ATTACH;FMTTYPE=image/png:https://cortlandfreelibrary.org/wp-content/uploads/2022/01/knitters2.png
END:VEVENT
END:VCALENDAR