BEGIN:VCALENDAR
VERSION:2.0
PRODID:-//Cortland Free Library - ECPv6.15.17.1//NONSGML v1.0//EN
CALSCALE:GREGORIAN
METHOD:PUBLISH
X-ORIGINAL-URL:https://cortlandfreelibrary.org
X-WR-CALDESC:Events for Cortland Free Library
REFRESH-INTERVAL;VALUE=DURATION:PT1H
X-Robots-Tag:noindex
X-PUBLISHED-TTL:PT1H
BEGIN:VTIMEZONE
TZID:UTC
BEGIN:STANDARD
TZOFFSETFROM:+0000
TZOFFSETTO:+0000
TZNAME:UTC
DTSTART:20220101T000000
END:STANDARD
END:VTIMEZONE
BEGIN:VTIMEZONE
TZID:America/New_York
BEGIN:DAYLIGHT
TZOFFSETFROM:-0500
TZOFFSETTO:-0400
TZNAME:EDT
DTSTART:20220313T070000
END:DAYLIGHT
BEGIN:STANDARD
TZOFFSETFROM:-0400
TZOFFSETTO:-0500
TZNAME:EST
DTSTART:20221106T060000
END:STANDARD
BEGIN:DAYLIGHT
TZOFFSETFROM:-0500
TZOFFSETTO:-0400
TZNAME:EDT
DTSTART:20230312T070000
END:DAYLIGHT
BEGIN:STANDARD
TZOFFSETFROM:-0400
TZOFFSETTO:-0500
TZNAME:EST
DTSTART:20231105T060000
END:STANDARD
BEGIN:DAYLIGHT
TZOFFSETFROM:-0500
TZOFFSETTO:-0400
TZNAME:EDT
DTSTART:20240310T070000
END:DAYLIGHT
BEGIN:STANDARD
TZOFFSETFROM:-0400
TZOFFSETTO:-0500
TZNAME:EST
DTSTART:20241103T060000
END:STANDARD
END:VTIMEZONE
BEGIN:VEVENT
DTSTART;TZID=UTC:20230406T103000
DTEND;TZID=UTC:20230406T110000
DTSTAMP:20260420T002659
CREATED:20220113T233324Z
LAST-MODIFIED:20240326T202534Z
UID:10000078-1680777000-1680778800@cortlandfreelibrary.org
SUMMARY:Preschool Story Time
DESCRIPTION:Stories\, songs\, and activities with a different theme each week. All ages are welcome but this program is designed for children ages 3-5 yrs.
URL:https://cortlandfreelibrary.org/event/preschool-story-time-6/2023-04-06/
LOCATION:Cortland Free Library\, 32 Church Street\, Cortland\, NY\, 13045\, United States
CATEGORIES:Storytime
ATTACH;FMTTYPE=image/png:https://cortlandfreelibrary.org/wp-content/uploads/2022/01/unnamed.png
END:VEVENT
BEGIN:VEVENT
DTSTART;TZID=America/New_York:20230406T113000
DTEND;TZID=America/New_York:20230406T120000
DTSTAMP:20260420T002659
CREATED:20230320T190131Z
LAST-MODIFIED:20240115T200412Z
UID:10002331-1680780600-1680782400@cortlandfreelibrary.org
SUMMARY:Pinwheels for Prevention
DESCRIPTION:Presented by the Child Advocacy Center. \nKids and families can join us to hear a story\, learn 5 personal body safety rules\, make your own pinwheel\, and help us plant a pinwheel garden. \nThis event will cover important safety information in a fun and interactive way. \nThis program is designed for children ages 4-8. All caregivers are welcome. \nRegistration required.
URL:https://cortlandfreelibrary.org/event/pinwheels-for-prevention-2/
LOCATION:NY
CATEGORIES:Youth Services Program
END:VEVENT
BEGIN:VEVENT
DTSTART;TZID=America/New_York:20230406T160000
DTEND;TZID=America/New_York:20230406T170000
DTSTAMP:20260420T002659
CREATED:20220826T195908Z
LAST-MODIFIED:20221123T174440Z
UID:10001661-1680796800-1680800400@cortlandfreelibrary.org
SUMMARY:*Teen Advisory Board
DESCRIPTION:Play some games & be a part of planning future teen programs! Open to ages 12 -18 yrs. Registration is required.
URL:https://cortlandfreelibrary.org/event/teen-advisory-board-2/2023-04-06/
LOCATION:Cortland Free Library\, 32 Church Street\, Cortland\, NY\, 13045\, United States
CATEGORIES:Teen Program
ATTACH;FMTTYPE=image/jpeg:https://cortlandfreelibrary.org/wp-content/uploads/2022/01/istockphoto-1150875904-612x612-1.jpg
END:VEVENT
BEGIN:VEVENT
DTSTART;TZID=UTC:20230406T180000
DTEND;TZID=UTC:20230406T200000
DTSTAMP:20260420T002659
CREATED:20220112T015954Z
LAST-MODIFIED:20220114T203416Z
UID:10000882-1680804000-1680811200@cortlandfreelibrary.org
SUMMARY:Chess Club
DESCRIPTION:An all ages chess club for beginners and experts.  Meets every Thursday at 6 p.m. Beginners will get a lesson on the basics of chess and experts can meet and play.
URL:https://cortlandfreelibrary.org/event/chess-club-2/2023-04-06/
LOCATION:Cortland Free Library\, 32 Church Street\, Cortland\, NY\, 13045\, United States
CATEGORIES:Adult Services Program
ATTACH;FMTTYPE=image/png:https://cortlandfreelibrary.org/wp-content/uploads/2022/01/chess-pieces2.png
END:VEVENT
END:VCALENDAR