BEGIN:VCALENDAR
VERSION:2.0
PRODID:-//Cortland Free Library - ECPv6.15.17.1//NONSGML v1.0//EN
CALSCALE:GREGORIAN
METHOD:PUBLISH
X-ORIGINAL-URL:https://cortlandfreelibrary.org
X-WR-CALDESC:Events for Cortland Free Library
REFRESH-INTERVAL;VALUE=DURATION:PT1H
X-Robots-Tag:noindex
X-PUBLISHED-TTL:PT1H
BEGIN:VTIMEZONE
TZID:America/New_York
BEGIN:DAYLIGHT
TZOFFSETFROM:-0500
TZOFFSETTO:-0400
TZNAME:EDT
DTSTART:20220313T070000
END:DAYLIGHT
BEGIN:STANDARD
TZOFFSETFROM:-0400
TZOFFSETTO:-0500
TZNAME:EST
DTSTART:20221106T060000
END:STANDARD
BEGIN:DAYLIGHT
TZOFFSETFROM:-0500
TZOFFSETTO:-0400
TZNAME:EDT
DTSTART:20230312T070000
END:DAYLIGHT
BEGIN:STANDARD
TZOFFSETFROM:-0400
TZOFFSETTO:-0500
TZNAME:EST
DTSTART:20231105T060000
END:STANDARD
BEGIN:DAYLIGHT
TZOFFSETFROM:-0500
TZOFFSETTO:-0400
TZNAME:EDT
DTSTART:20240310T070000
END:DAYLIGHT
BEGIN:STANDARD
TZOFFSETFROM:-0400
TZOFFSETTO:-0500
TZNAME:EST
DTSTART:20241103T060000
END:STANDARD
END:VTIMEZONE
BEGIN:VEVENT
DTSTART;TZID=America/New_York:20230411T180000
DTEND;TZID=America/New_York:20230411T190000
DTSTAMP:20260420T020550
CREATED:20230328T141031Z
LAST-MODIFIED:20230328T141031Z
UID:10002355-1681236000-1681239600@cortlandfreelibrary.org
SUMMARY:The Really Free Market
DESCRIPTION:The Really Free Market is a free bi-monthly distribution of food\, personal care items\, and household supplies. You can take as much as you want and we will never ask you to “prove” your need. Brought to you by Cortland County Mutual Aid.
URL:https://cortlandfreelibrary.org/event/the-really-free-market-12/
LOCATION:Cortland Free Library\, 32 Church Street\, Cortland\, NY\, 13045\, United States
ATTACH;FMTTYPE=image/png:https://cortlandfreelibrary.org/wp-content/uploads/2022/01/CCMA-Background-for-RFM-Slider.png
ORGANIZER;CN="Cortland County Mutual Aid":MAILTO:cortlandmutualaid@gmail.com
END:VEVENT
END:VCALENDAR