BEGIN:VCALENDAR
VERSION:2.0
PRODID:-//Cortland Free Library - ECPv6.15.17.1//NONSGML v1.0//EN
CALSCALE:GREGORIAN
METHOD:PUBLISH
X-WR-CALNAME:Cortland Free Library
X-ORIGINAL-URL:https://cortlandfreelibrary.org
X-WR-CALDESC:Events for Cortland Free Library
REFRESH-INTERVAL;VALUE=DURATION:PT1H
X-Robots-Tag:noindex
X-PUBLISHED-TTL:PT1H
BEGIN:VTIMEZONE
TZID:America/New_York
BEGIN:DAYLIGHT
TZOFFSETFROM:-0500
TZOFFSETTO:-0400
TZNAME:EDT
DTSTART:20220313T070000
END:DAYLIGHT
BEGIN:STANDARD
TZOFFSETFROM:-0400
TZOFFSETTO:-0500
TZNAME:EST
DTSTART:20221106T060000
END:STANDARD
BEGIN:DAYLIGHT
TZOFFSETFROM:-0500
TZOFFSETTO:-0400
TZNAME:EDT
DTSTART:20230312T070000
END:DAYLIGHT
BEGIN:STANDARD
TZOFFSETFROM:-0400
TZOFFSETTO:-0500
TZNAME:EST
DTSTART:20231105T060000
END:STANDARD
BEGIN:DAYLIGHT
TZOFFSETFROM:-0500
TZOFFSETTO:-0400
TZNAME:EDT
DTSTART:20240310T070000
END:DAYLIGHT
BEGIN:STANDARD
TZOFFSETFROM:-0400
TZOFFSETTO:-0500
TZNAME:EST
DTSTART:20241103T060000
END:STANDARD
END:VTIMEZONE
BEGIN:VTIMEZONE
TZID:UTC
BEGIN:STANDARD
TZOFFSETFROM:+0000
TZOFFSETTO:+0000
TZNAME:UTC
DTSTART:20220101T000000
END:STANDARD
END:VTIMEZONE
BEGIN:VEVENT
DTSTART;VALUE=DATE:20230717
DTEND;VALUE=DATE:20230729
DTSTAMP:20260421T212637
CREATED:20230526T200529Z
LAST-MODIFIED:20230706T183808Z
UID:10002571-1689552000-1690588799@cortlandfreelibrary.org
SUMMARY:Lego & Bookmark Contest Voting
DESCRIPTION:One vote per person per day for each contest.
URL:https://cortlandfreelibrary.org/event/lego-bookmark-contest-voting-2/
LOCATION:NY
END:VEVENT
BEGIN:VEVENT
DTSTART;TZID=America/New_York:20230724T120000
DTEND;TZID=America/New_York:20230724T130000
DTSTAMP:20260421T212637
CREATED:20230130T183300Z
LAST-MODIFIED:20230130T183300Z
UID:10002207-1690200000-1690203600@cortlandfreelibrary.org
SUMMARY:Story Time at Suggett Park
DESCRIPTION:Join Miss Tammy at Suggett Park (25 Homer Ave.\, Cortland) for story time while you eat lunch. (Rain or Shine) Come early to get your free lunch and find a spot! \n*Rain location – Burch Building at Suggett Park
URL:https://cortlandfreelibrary.org/event/story-time-at-suggett-park-4/
LOCATION:Suggett Park\, 108 Homer Ave\, Cortland\, NY\, 13045\, United States
CATEGORIES:Storytime,Youth Services Program
ATTACH;FMTTYPE=image/jpeg:https://cortlandfreelibrary.org/wp-content/uploads/2022/05/Suggett-Park.jpg
END:VEVENT
BEGIN:VEVENT
DTSTART;TZID=America/New_York:20230724T180000
DTEND;TZID=America/New_York:20230724T190000
DTSTAMP:20260421T212637
CREATED:20230526T200739Z
LAST-MODIFIED:20240115T164424Z
UID:10002572-1690221600-1690225200@cortlandfreelibrary.org
SUMMARY:The Great and Powerful Dave
DESCRIPTION:Join The Great & Powerful Dave for this fun filled show packed with magic\, mystery\, comedy\, puppets\, and audience participation. The show is targeted toward ages 4-10\, but all are welcome! Registration Required.
URL:https://cortlandfreelibrary.org/event/the-great-and-powerful-dave/
LOCATION:NY
CATEGORIES:Youth Services Program
END:VEVENT
BEGIN:VEVENT
DTSTART;TZID=America/New_York:20230724T180000
DTEND;TZID=America/New_York:20230724T190000
DTSTAMP:20260421T212637
CREATED:20230612T184159Z
LAST-MODIFIED:20230622T221021Z
UID:10002601-1690221600-1690225200@cortlandfreelibrary.org
SUMMARY:Community Read Book Discussion (Virtual): Disability Visibility w/ Access to Independence\, Racker\, CACTC\, and the Cortland County Mental Health Department
DESCRIPTION:Pick up a free copy of Disability Visibility: First-Person Stories from the 21st Century\, edited by Alice Wong at Cortland Free Library\, then join us for this virtual (Zoom) book discussion with our partners Access to Independence\, Racker\, Cortland Area Communities That Care (CACTC)\, and the Cortland County Mental Health Department. \nOther ways to read the book: \n\nAudiobook\neBook\nPlain-language summary by Sara Luterman (more about the plain-language version)\nLibrary of Congress’ Braille and Audio Reading Download program (downloadable talking book #DB99604 and Braille currently in process of being added)\n\nAbout the Book: \nA groundbreaking collection of first-person writing on the joys and challenges of the modern disability experience\, Disability Visibility brings together the voices of activists\, authors\, lawyers\, politicians\, artists\, and everyday people whose daily lives are\, in the words of playwright Neil Marcus\, “an art . . . an ingenious way to live.” \nAccording to the last census\, one in five people in the United States lives with a disability. Some are visible\, some are hidden–but all are underrepresented in media and popular culture. Now\, just in time for the thirtieth anniversary of the Americans with Disabilities Act\, activist Alice Wong brings together an urgent\, galvanizing collection of personal essays by contemporary disabled writers. There is Harriet McBryde Johnson’s “Unspeakable Conversations\,” which describes her famous debate with Princeton philosopher Peter Singer over her own personhood. There is columnist s. e. smith’s celebratory review of a work of theater by disabled performers. There are original pieces by up-and-coming authors like Keah Brown and Haben Girma. There are blog posts\, manifestos\, eulogies\, and testimonies to Congress. \nTaken together\, this anthology gives a glimpse of the vast richness and complexity of the disabled experience\, highlighting the passions\, talents\, and everyday lives of this community. It invites readers to question their own assumptions and understandings. It celebrates and documents disability culture in the now. It looks to the future and past with hope and love. – Provided by publisher \n  \nAbout the Author: \n \nAlice Wong (she/her) is a disabled activist\, writer\, media maker\, and consultant. She is the founder and director of the Disability Visibility Project\, an online community dedicated to creating\, sharing\, and amplifying disability media and culture. Alice is the editor of Disability Visibility: First-Person Stories from the Twenty-First Century\, an anthology of essays by disabled people and Disability Visibility: 17 First-Person Stories for Today\, an adapted version for young adults. Her debut memoir\, Year of the Tiger: An Activist’s Life is available now from Vintage Books. Disability Intimacy\, her next anthology\, will be out in 2024. Twitter: @SFdirewolf.
URL:https://cortlandfreelibrary.org/event/community-read-book-discussion-virtual-disability-visibility-with-access-to-independence-racker-and-cactc/
LOCATION:Zoom
CATEGORIES:Adult Services Program,Book Club,Special Event
END:VEVENT
BEGIN:VEVENT
DTSTART;TZID=UTC:20230724T180000
DTEND;TZID=UTC:20230724T193000
DTSTAMP:20260421T212637
CREATED:20220112T013825Z
LAST-MODIFIED:20240313T135203Z
UID:10001204-1690221600-1690227000@cortlandfreelibrary.org
SUMMARY:Social Knitting
DESCRIPTION:Why work alone when you can work with others? Knitting\, crocheting\, sewing – bring whatever it is you are working on! Open to all skill levels (ages 12 and up). The group meets every Monday evening at 6 p.m.
URL:https://cortlandfreelibrary.org/event/social-knitting-2/2023-07-24/
LOCATION:Cortland Free Library\, 32 Church Street\, Cortland\, NY\, 13045\, United States
CATEGORIES:Adult Services Program
ATTACH;FMTTYPE=image/png:https://cortlandfreelibrary.org/wp-content/uploads/2022/01/knitters2.png
END:VEVENT
END:VCALENDAR