BEGIN:VCALENDAR
VERSION:2.0
PRODID:-//Cortland Free Library - ECPv6.15.17.1//NONSGML v1.0//EN
CALSCALE:GREGORIAN
METHOD:PUBLISH
X-ORIGINAL-URL:https://cortlandfreelibrary.org
X-WR-CALDESC:Events for Cortland Free Library
REFRESH-INTERVAL;VALUE=DURATION:PT1H
X-Robots-Tag:noindex
X-PUBLISHED-TTL:PT1H
BEGIN:VTIMEZONE
TZID:America/New_York
BEGIN:DAYLIGHT
TZOFFSETFROM:-0500
TZOFFSETTO:-0400
TZNAME:EDT
DTSTART:20230312T070000
END:DAYLIGHT
BEGIN:STANDARD
TZOFFSETFROM:-0400
TZOFFSETTO:-0500
TZNAME:EST
DTSTART:20231105T060000
END:STANDARD
BEGIN:DAYLIGHT
TZOFFSETFROM:-0500
TZOFFSETTO:-0400
TZNAME:EDT
DTSTART:20240310T070000
END:DAYLIGHT
BEGIN:STANDARD
TZOFFSETFROM:-0400
TZOFFSETTO:-0500
TZNAME:EST
DTSTART:20241103T060000
END:STANDARD
BEGIN:DAYLIGHT
TZOFFSETFROM:-0500
TZOFFSETTO:-0400
TZNAME:EDT
DTSTART:20250309T070000
END:DAYLIGHT
BEGIN:STANDARD
TZOFFSETFROM:-0400
TZOFFSETTO:-0500
TZNAME:EST
DTSTART:20251102T060000
END:STANDARD
END:VTIMEZONE
BEGIN:VEVENT
DTSTART;TZID=America/New_York:20240312T173000
DTEND;TZID=America/New_York:20240312T183000
DTSTAMP:20260423T051848
CREATED:20240213T185616Z
LAST-MODIFIED:20240213T185616Z
UID:10004305-1710264600-1710268200@cortlandfreelibrary.org
SUMMARY:Dungeons & Dragons
DESCRIPTION:Open to ages 18 and up.  No experience necessary! Contact the library for more information!
URL:https://cortlandfreelibrary.org/event/dungeons-dragons-11/
LOCATION:Cortland Free Library\, 32 Church Street\, Cortland\, NY\, 13045\, United States
ATTACH;FMTTYPE=image/png:https://cortlandfreelibrary.org/wp-content/uploads/2022/09/DD-pictures.png
END:VEVENT
BEGIN:VEVENT
DTSTART;TZID=America/New_York:20240312T180000
DTEND;TZID=America/New_York:20240312T190000
DTSTAMP:20260423T051848
CREATED:20240312T142326Z
LAST-MODIFIED:20240312T142326Z
UID:10004330-1710266400-1710270000@cortlandfreelibrary.org
SUMMARY:The Really Free Market
DESCRIPTION:The Really Free Market is a free bi-monthly distribution of food\, personal care items\, and household supplies. You can take as much as you want and we will never ask you to “prove” your need. Brought to you by Cortland County Mutual Aid. Contact cortlandmutualaid@gmail.com for more information and with questions about donations.
URL:https://cortlandfreelibrary.org/event/the-really-free-market-22/
LOCATION:Cortland Free Library\, 32 Church Street\, Cortland\, NY\, 13045\, United States
END:VEVENT
END:VCALENDAR