BEGIN:VCALENDAR
VERSION:2.0
PRODID:-//Cortland Free Library - ECPv6.15.17.1//NONSGML v1.0//EN
CALSCALE:GREGORIAN
METHOD:PUBLISH
X-WR-CALNAME:Cortland Free Library
X-ORIGINAL-URL:https://cortlandfreelibrary.org
X-WR-CALDESC:Events for Cortland Free Library
REFRESH-INTERVAL;VALUE=DURATION:PT1H
X-Robots-Tag:noindex
X-PUBLISHED-TTL:PT1H
BEGIN:VTIMEZONE
TZID:America/New_York
BEGIN:DAYLIGHT
TZOFFSETFROM:-0500
TZOFFSETTO:-0400
TZNAME:EDT
DTSTART:20230312T070000
END:DAYLIGHT
BEGIN:STANDARD
TZOFFSETFROM:-0400
TZOFFSETTO:-0500
TZNAME:EST
DTSTART:20231105T060000
END:STANDARD
BEGIN:DAYLIGHT
TZOFFSETFROM:-0500
TZOFFSETTO:-0400
TZNAME:EDT
DTSTART:20240310T070000
END:DAYLIGHT
BEGIN:STANDARD
TZOFFSETFROM:-0400
TZOFFSETTO:-0500
TZNAME:EST
DTSTART:20241103T060000
END:STANDARD
BEGIN:DAYLIGHT
TZOFFSETFROM:-0500
TZOFFSETTO:-0400
TZNAME:EDT
DTSTART:20250309T070000
END:DAYLIGHT
BEGIN:STANDARD
TZOFFSETFROM:-0400
TZOFFSETTO:-0500
TZNAME:EST
DTSTART:20251102T060000
END:STANDARD
END:VTIMEZONE
BEGIN:VTIMEZONE
TZID:UTC
BEGIN:STANDARD
TZOFFSETFROM:+0000
TZOFFSETTO:+0000
TZNAME:UTC
DTSTART:20230101T000000
END:STANDARD
END:VTIMEZONE
BEGIN:VEVENT
DTSTART;TZID=America/New_York:20240822T103000
DTEND;TZID=America/New_York:20240822T110000
DTSTAMP:20260421T181628
CREATED:20240819T221649Z
LAST-MODIFIED:20240819T221649Z
UID:10005474-1724322600-1724324400@cortlandfreelibrary.org
SUMMARY:Preschool Story Time with Special Guest Senator Lea Webb
DESCRIPTION:Stories\, songs\, and activities with a different theme each week. This week we will have a special guest reading one of our stories\, Senator Lea Webb. All ages are welcome but this program is designed for children ages 3-5 yrs.
URL:https://cortlandfreelibrary.org/event/preschool-story-time-3-5/
LOCATION:Cortland Free Library\, 32 Church Street\, Cortland\, NY\, 13045\, United States
ATTACH;FMTTYPE=image/png:https://cortlandfreelibrary.org/wp-content/uploads/2022/01/unnamed.png
END:VEVENT
BEGIN:VEVENT
DTSTART;TZID=America/New_York:20240822T123000
DTEND;TZID=America/New_York:20240822T140000
DTSTAMP:20260421T181628
CREATED:20240822T161129Z
LAST-MODIFIED:20240822T161129Z
UID:10005823-1724329800-1724335200@cortlandfreelibrary.org
SUMMARY:Meeting of CFL Personnel and Finance
DESCRIPTION:
URL:https://cortlandfreelibrary.org/event/meeting-of-cfl-personnel-and-finance/
LOCATION:NY
END:VEVENT
BEGIN:VEVENT
DTSTART;TZID=America/New_York:20240822T130000
DTEND;TZID=America/New_York:20240822T140000
DTSTAMP:20260421T181628
CREATED:20240625T162059Z
LAST-MODIFIED:20240625T162059Z
UID:10005766-1724331600-1724335200@cortlandfreelibrary.org
SUMMARY:Craft & Chat
DESCRIPTION:Why work alone when you can work with others? Crafting\, knitting\, crocheting\, sewing – bring whatever it is you are working on! Open to all skill levels ages 12 and up.
URL:https://cortlandfreelibrary.org/event/craft-chat/2024-08-22/
LOCATION:Cortland Free Library\, 32 Church Street\, Cortland\, NY\, 13045\, United States
ATTACH;FMTTYPE=image/png:https://cortlandfreelibrary.org/wp-content/uploads/2022/01/knitters2.png
END:VEVENT
BEGIN:VEVENT
DTSTART;TZID=UTC:20240822T170000
DTEND;TZID=UTC:20240822T200000
DTSTAMP:20260421T181628
CREATED:20240501T232556Z
LAST-MODIFIED:20240626T214711Z
UID:10005009-1724346000-1724356800@cortlandfreelibrary.org
SUMMARY:Chess Club
DESCRIPTION:An all ages chess club for beginners and experts.  Meets every Thursday at 5 p.m. Beginners will get a lesson on the basics of chess and experts can meet and play.
URL:https://cortlandfreelibrary.org/event/chess-club-2-4/2024-08-22/
LOCATION:Cortland Free Library\, 32 Church Street\, Cortland\, NY\, 13045\, United States
CATEGORIES:Adult Services Program
ATTACH;FMTTYPE=image/png:https://cortlandfreelibrary.org/wp-content/uploads/2022/01/chess-pieces2.png
END:VEVENT
END:VCALENDAR