BEGIN:VCALENDAR
VERSION:2.0
PRODID:-//Cortland Free Library - ECPv6.15.17.1//NONSGML v1.0//EN
CALSCALE:GREGORIAN
METHOD:PUBLISH
X-ORIGINAL-URL:https://cortlandfreelibrary.org
X-WR-CALDESC:Events for Cortland Free Library
REFRESH-INTERVAL;VALUE=DURATION:PT1H
X-Robots-Tag:noindex
X-PUBLISHED-TTL:PT1H
BEGIN:VTIMEZONE
TZID:America/New_York
BEGIN:DAYLIGHT
TZOFFSETFROM:-0500
TZOFFSETTO:-0400
TZNAME:EDT
DTSTART:20230312T070000
END:DAYLIGHT
BEGIN:STANDARD
TZOFFSETFROM:-0400
TZOFFSETTO:-0500
TZNAME:EST
DTSTART:20231105T060000
END:STANDARD
BEGIN:DAYLIGHT
TZOFFSETFROM:-0500
TZOFFSETTO:-0400
TZNAME:EDT
DTSTART:20240310T070000
END:DAYLIGHT
BEGIN:STANDARD
TZOFFSETFROM:-0400
TZOFFSETTO:-0500
TZNAME:EST
DTSTART:20241103T060000
END:STANDARD
BEGIN:DAYLIGHT
TZOFFSETFROM:-0500
TZOFFSETTO:-0400
TZNAME:EDT
DTSTART:20250309T070000
END:DAYLIGHT
BEGIN:STANDARD
TZOFFSETFROM:-0400
TZOFFSETTO:-0500
TZNAME:EST
DTSTART:20251102T060000
END:STANDARD
END:VTIMEZONE
BEGIN:VEVENT
DTSTART;VALUE=DATE:20240830
DTEND;VALUE=DATE:20240831
DTSTAMP:20260424T131336
CREATED:20240724T210552Z
LAST-MODIFIED:20240724T210552Z
UID:10005798-1724976000-1725062399@cortlandfreelibrary.org
SUMMARY:StoryBook I Spy Winners Announced!
DESCRIPTION:
URL:https://cortlandfreelibrary.org/event/storybook-i-spy-winners-announced/
LOCATION:Cortland Free Library\, 32 Church Street\, Cortland\, NY\, 13045\, United States
ATTACH;FMTTYPE=image/jpeg:https://cortlandfreelibrary.org/wp-content/uploads/2024/07/i-spy.jpg
END:VEVENT
END:VCALENDAR