BEGIN:VCALENDAR
VERSION:2.0
PRODID:-//Cortland Free Library - ECPv6.15.17.1//NONSGML v1.0//EN
CALSCALE:GREGORIAN
METHOD:PUBLISH
X-WR-CALNAME:Cortland Free Library
X-ORIGINAL-URL:https://cortlandfreelibrary.org
X-WR-CALDESC:Events for Cortland Free Library
REFRESH-INTERVAL;VALUE=DURATION:PT1H
X-Robots-Tag:noindex
X-PUBLISHED-TTL:PT1H
BEGIN:VTIMEZONE
TZID:America/New_York
BEGIN:DAYLIGHT
TZOFFSETFROM:-0500
TZOFFSETTO:-0400
TZNAME:EDT
DTSTART:20240310T070000
END:DAYLIGHT
BEGIN:STANDARD
TZOFFSETFROM:-0400
TZOFFSETTO:-0500
TZNAME:EST
DTSTART:20241103T060000
END:STANDARD
BEGIN:DAYLIGHT
TZOFFSETFROM:-0500
TZOFFSETTO:-0400
TZNAME:EDT
DTSTART:20250309T070000
END:DAYLIGHT
BEGIN:STANDARD
TZOFFSETFROM:-0400
TZOFFSETTO:-0500
TZNAME:EST
DTSTART:20251102T060000
END:STANDARD
BEGIN:DAYLIGHT
TZOFFSETFROM:-0500
TZOFFSETTO:-0400
TZNAME:EDT
DTSTART:20260308T070000
END:DAYLIGHT
BEGIN:STANDARD
TZOFFSETFROM:-0400
TZOFFSETTO:-0500
TZNAME:EST
DTSTART:20261101T060000
END:STANDARD
END:VTIMEZONE
BEGIN:VTIMEZONE
TZID:UTC
BEGIN:STANDARD
TZOFFSETFROM:+0000
TZOFFSETTO:+0000
TZNAME:UTC
DTSTART:20240101T000000
END:STANDARD
END:VTIMEZONE
BEGIN:VEVENT
DTSTART;TZID=America/New_York:20250508T103000
DTEND;TZID=America/New_York:20250508T110000
DTSTAMP:20260423T051612
CREATED:20250418T192732Z
LAST-MODIFIED:20250418T192732Z
UID:10005511-1746700200-1746702000@cortlandfreelibrary.org
SUMMARY:Preschool Story Time- Special Guests from WSKG
DESCRIPTION:This week join us for special program with our guests from WSKG.  All ages are welcome but this program is designed for children ages 3-5 yrs.
URL:https://cortlandfreelibrary.org/event/preschool-story-time-3-11/
LOCATION:Cortland Free Library\, 32 Church Street\, Cortland\, NY\, 13045\, United States
ATTACH;FMTTYPE=image/png:https://cortlandfreelibrary.org/wp-content/uploads/2022/01/unnamed.png
END:VEVENT
BEGIN:VEVENT
DTSTART;TZID=UTC:20250508T170000
DTEND;TZID=UTC:20250508T200000
DTSTAMP:20260423T051612
CREATED:20240501T232556Z
LAST-MODIFIED:20240626T214711Z
UID:10005046-1746723600-1746734400@cortlandfreelibrary.org
SUMMARY:Chess Club
DESCRIPTION:An all ages chess club for beginners and experts.  Meets every Thursday at 5 p.m. Beginners will get a lesson on the basics of chess and experts can meet and play.
URL:https://cortlandfreelibrary.org/event/chess-club-2-4/2025-05-08/
LOCATION:Cortland Free Library\, 32 Church Street\, Cortland\, NY\, 13045\, United States
CATEGORIES:Adult Services Program
ATTACH;FMTTYPE=image/png:https://cortlandfreelibrary.org/wp-content/uploads/2022/01/chess-pieces2.png
END:VEVENT
BEGIN:VEVENT
DTSTART;TZID=America/New_York:20250508T183000
DTEND;TZID=America/New_York:20250508T193000
DTSTAMP:20260423T051612
CREATED:20250428T191603Z
LAST-MODIFIED:20250428T191603Z
UID:10007700-1746729000-1746732600@cortlandfreelibrary.org
SUMMARY:History Buffs' Book Club
DESCRIPTION:Do you enjoy history? Join us to discuss the War of 1812.   We choose the topic\, You choose the book! Contact the library with any questions!\nWe will be meeting at the library! \nJune’s topic will be the history of Libraries!
URL:https://cortlandfreelibrary.org/event/history-buffs-book-club-39/
LOCATION:Cortland Free Library\, 32 Church Street\, Cortland\, NY\, 13045\, United States
CATEGORIES:Book Club
ATTACH;FMTTYPE=image/png:https://cortlandfreelibrary.org/wp-content/uploads/2025/04/5.25-war-of-1812.png
END:VEVENT
END:VCALENDAR