BEGIN:VCALENDAR
VERSION:2.0
PRODID:-//Cortland Free Library - ECPv6.15.17.1//NONSGML v1.0//EN
CALSCALE:GREGORIAN
METHOD:PUBLISH
X-WR-CALNAME:Cortland Free Library
X-ORIGINAL-URL:https://cortlandfreelibrary.org
X-WR-CALDESC:Events for Cortland Free Library
REFRESH-INTERVAL;VALUE=DURATION:PT1H
X-Robots-Tag:noindex
X-PUBLISHED-TTL:PT1H
BEGIN:VTIMEZONE
TZID:America/New_York
BEGIN:DAYLIGHT
TZOFFSETFROM:-0500
TZOFFSETTO:-0400
TZNAME:EDT
DTSTART:20250309T070000
END:DAYLIGHT
BEGIN:STANDARD
TZOFFSETFROM:-0400
TZOFFSETTO:-0500
TZNAME:EST
DTSTART:20251102T060000
END:STANDARD
BEGIN:DAYLIGHT
TZOFFSETFROM:-0500
TZOFFSETTO:-0400
TZNAME:EDT
DTSTART:20260308T070000
END:DAYLIGHT
BEGIN:STANDARD
TZOFFSETFROM:-0400
TZOFFSETTO:-0500
TZNAME:EST
DTSTART:20261101T060000
END:STANDARD
BEGIN:DAYLIGHT
TZOFFSETFROM:-0500
TZOFFSETTO:-0400
TZNAME:EDT
DTSTART:20270314T070000
END:DAYLIGHT
BEGIN:STANDARD
TZOFFSETFROM:-0400
TZOFFSETTO:-0500
TZNAME:EST
DTSTART:20271107T060000
END:STANDARD
END:VTIMEZONE
BEGIN:VEVENT
DTSTART;TZID=America/New_York:20260128T183000
DTEND;TZID=America/New_York:20260128T193000
DTSTAMP:20260422T024750
CREATED:20260105T185526Z
LAST-MODIFIED:20260105T192022Z
UID:10009222-1769625000-1769628600@cortlandfreelibrary.org
SUMMARY:Writing Group
DESCRIPTION:We are all writers! At least we are as soon as we start writing! This group is designed for writers of all ability and experience levels.  It is an open platform for writers to explore personal and creative writing. Through peer support\, all writers will build skills within a supportive and inspiring community.  Meant to inspire\, educate\, and connect local writers. Ages 18 and up.
URL:https://cortlandfreelibrary.org/event/writing-group-19/
LOCATION:Cortland Free Library\, 32 Church Street\, Cortland\, NY\, 13045\, United States
ATTACH;FMTTYPE=image/png:https://cortlandfreelibrary.org/wp-content/uploads/2025/08/Writing-Group-logo.png
END:VEVENT
BEGIN:VEVENT
DTSTART;TZID=America/New_York:20260128T183000
DTEND;TZID=America/New_York:20260128T200000
DTSTAMP:20260422T024750
CREATED:20260105T185043Z
LAST-MODIFIED:20260105T185043Z
UID:10009218-1769625000-1769630400@cortlandfreelibrary.org
SUMMARY:Cortland Free Library Board of Trustees
DESCRIPTION:Members of the public who wish to speak during the public comment portion of the meeting are encouraged to notify the library in advance and must also sign in at the meeting. To notify the library\, please email boardpresident@gmail.com.
URL:https://cortlandfreelibrary.org/event/cortland-free-library-board-of-trustees-4/
LOCATION:Cortland Free Library\, 32 Church Street\, Cortland\, NY\, 13045\, United States
ATTACH;FMTTYPE=image/png:https://cortlandfreelibrary.org/wp-content/uploads/2021/12/CFL-FINAL-MARK-4C-resize.png
END:VEVENT
END:VCALENDAR