BEGIN:VCALENDAR
VERSION:2.0
PRODID:-//Cortland Free Library - ECPv6.15.17.1//NONSGML v1.0//EN
CALSCALE:GREGORIAN
METHOD:PUBLISH
X-ORIGINAL-URL:https://cortlandfreelibrary.org
X-WR-CALDESC:Events for Cortland Free Library
REFRESH-INTERVAL;VALUE=DURATION:PT1H
X-Robots-Tag:noindex
X-PUBLISHED-TTL:PT1H
BEGIN:VTIMEZONE
TZID:America/New_York
BEGIN:DAYLIGHT
TZOFFSETFROM:-0500
TZOFFSETTO:-0400
TZNAME:EDT
DTSTART:20250309T070000
END:DAYLIGHT
BEGIN:STANDARD
TZOFFSETFROM:-0400
TZOFFSETTO:-0500
TZNAME:EST
DTSTART:20251102T060000
END:STANDARD
BEGIN:DAYLIGHT
TZOFFSETFROM:-0500
TZOFFSETTO:-0400
TZNAME:EDT
DTSTART:20260308T070000
END:DAYLIGHT
BEGIN:STANDARD
TZOFFSETFROM:-0400
TZOFFSETTO:-0500
TZNAME:EST
DTSTART:20261101T060000
END:STANDARD
BEGIN:DAYLIGHT
TZOFFSETFROM:-0500
TZOFFSETTO:-0400
TZNAME:EDT
DTSTART:20270314T070000
END:DAYLIGHT
BEGIN:STANDARD
TZOFFSETFROM:-0400
TZOFFSETTO:-0500
TZNAME:EST
DTSTART:20271107T060000
END:STANDARD
END:VTIMEZONE
BEGIN:VEVENT
DTSTART;TZID=America/New_York:20260204T160000
DTEND;TZID=America/New_York:20260204T170000
DTSTAMP:20260420T035812
CREATED:20250915T214943Z
LAST-MODIFIED:20250915T223229Z
UID:10008792-1770220800-1770224400@cortlandfreelibrary.org
SUMMARY:*LEGO Club
DESCRIPTION:Come join our LEGO club & have some building fun! Each session we’ll have a challenge & a game. LEGO Club meets on the first & third Wednesday of each month at 4 p.m. Registration is required each month. Please sign up for one day only. Open to ages 4 – 12 yrs.
URL:https://cortlandfreelibrary.org/event/lego-club-57/2026-02-04/
LOCATION:Cortland Free Library\, 32 Church Street\, Cortland\, NY\, 13045\, United States
ATTACH;FMTTYPE=image/png:https://cortlandfreelibrary.org/wp-content/uploads/2024/03/legos.png
END:VEVENT
BEGIN:VEVENT
DTSTART;TZID=America/New_York:20260204T170000
DTEND;TZID=America/New_York:20260204T180000
DTSTAMP:20260420T035812
CREATED:20260121T152556Z
LAST-MODIFIED:20260121T152556Z
UID:10009243-1770224400-1770228000@cortlandfreelibrary.org
SUMMARY:Book Club
DESCRIPTION:Join us to discuss Orphan Collector by Ellen Marie Wiseman.  New members are always welcome! Please contact the library for more information.  Ask for a copy of the book at either circulation desk. Our next selection\, to be determined\, will be discussed on March 4\, 2026.
URL:https://cortlandfreelibrary.org/event/book-club-47/
LOCATION:Cortland Free Library\, 32 Church Street\, Cortland\, NY\, 13045\, United States
ATTACH;FMTTYPE=image/png:https://cortlandfreelibrary.org/wp-content/uploads/2026/01/Orphan-Collector.png
END:VEVENT
BEGIN:VEVENT
DTSTART;TZID=America/New_York:20260204T183000
DTEND;TZID=America/New_York:20260204T193000
DTSTAMP:20260420T035812
CREATED:20260202T202852Z
LAST-MODIFIED:20260202T202852Z
UID:10009280-1770229800-1770233400@cortlandfreelibrary.org
SUMMARY:Writing Group
DESCRIPTION:We are all writers! At least we are as soon as we start writing! This group is designed for writers of all ability and experience levels.  It is an open platform for writers to explore personal and creative writing. Through peer support\, all writers will build skills within a supportive and inspiring community.  Meant to inspire\, educate\, and connect local writers. Ages 18 and up.
URL:https://cortlandfreelibrary.org/event/writing-group-20/
LOCATION:Cortland Free Library\, 32 Church Street\, Cortland\, NY\, 13045\, United States
END:VEVENT
END:VCALENDAR