BEGIN:VCALENDAR
VERSION:2.0
PRODID:-//Cortland Free Library - ECPv6.15.17.1//NONSGML v1.0//EN
CALSCALE:GREGORIAN
METHOD:PUBLISH
X-ORIGINAL-URL:https://cortlandfreelibrary.org
X-WR-CALDESC:Events for Cortland Free Library
REFRESH-INTERVAL;VALUE=DURATION:PT1H
X-Robots-Tag:noindex
X-PUBLISHED-TTL:PT1H
BEGIN:VTIMEZONE
TZID:America/New_York
BEGIN:DAYLIGHT
TZOFFSETFROM:-0500
TZOFFSETTO:-0400
TZNAME:EDT
DTSTART:20250309T070000
END:DAYLIGHT
BEGIN:STANDARD
TZOFFSETFROM:-0400
TZOFFSETTO:-0500
TZNAME:EST
DTSTART:20251102T060000
END:STANDARD
BEGIN:DAYLIGHT
TZOFFSETFROM:-0500
TZOFFSETTO:-0400
TZNAME:EDT
DTSTART:20260308T070000
END:DAYLIGHT
BEGIN:STANDARD
TZOFFSETFROM:-0400
TZOFFSETTO:-0500
TZNAME:EST
DTSTART:20261101T060000
END:STANDARD
BEGIN:DAYLIGHT
TZOFFSETFROM:-0500
TZOFFSETTO:-0400
TZNAME:EDT
DTSTART:20270314T070000
END:DAYLIGHT
BEGIN:STANDARD
TZOFFSETFROM:-0400
TZOFFSETTO:-0500
TZNAME:EST
DTSTART:20271107T060000
END:STANDARD
END:VTIMEZONE
BEGIN:VEVENT
DTSTART;TZID=America/New_York:20260223T130000
DTEND;TZID=America/New_York:20260223T140000
DTSTAMP:20260422T025825
CREATED:20250812T194549Z
LAST-MODIFIED:20250929T160115Z
UID:10008349-1771851600-1771855200@cortlandfreelibrary.org
SUMMARY:*Homeschool Get Ready To Read
DESCRIPTION:Mondays at 1 p.m. A program for emergent readers ages 4 – 7 yrs. & their caregivers.  The program promotes early literacy skills with letter sounds & recognition\, activities & stories.  Each week children will receive a free book & parents will have learned activities to reinforce reading skills at home. Registration is limited & is required.
URL:https://cortlandfreelibrary.org/event/homeschool-get-ready-to-read-49/2026-02-23/
LOCATION:Cortland Free Library\, 32 Church Street\, Cortland\, NY\, 13045\, United States
ATTACH;FMTTYPE=image/jpeg:https://cortlandfreelibrary.org/wp-content/uploads/2022/08/Free-abc-clipart.jpg
END:VEVENT
BEGIN:VEVENT
DTSTART;TZID=America/New_York:20260223T170000
DTEND;TZID=America/New_York:20260223T180000
DTSTAMP:20260422T025825
CREATED:20260202T204439Z
LAST-MODIFIED:20260202T205041Z
UID:10009286-1771866000-1771869600@cortlandfreelibrary.org
SUMMARY:Read It Watch It
DESCRIPTION:Join us for the Read It\, Watch It Movie Book Club – where great stories come to life both on the page and on the screen!  We will meet to discuss a movie based on a book that we have read.  We will discuss The Notebook by Nicholas Sparks and the movie The Notebook starring Ryan Gosling & Rachel McAdams.  Read the book and watch the movie at home\, then come to the meeting ready to discuss both! Can’t make this meeting\, but are interested? Let us know!
URL:https://cortlandfreelibrary.org/event/read-it-watch-it-6/
LOCATION:Cortland Free Library\, 32 Church Street\, Cortland\, NY\, 13045\, United States
ATTACH;FMTTYPE=image/jpeg:https://cortlandfreelibrary.org/wp-content/uploads/2024/09/books-with-film-reel.jpg
END:VEVENT
BEGIN:VEVENT
DTSTART;TZID=America/New_York:20260223T180000
DTEND;TZID=America/New_York:20260223T190000
DTSTAMP:20260422T025825
CREATED:20250813T142205Z
LAST-MODIFIED:20250813T142205Z
UID:10008096-1771869600-1771873200@cortlandfreelibrary.org
SUMMARY:*Ready\, Set\, Read!
DESCRIPTION:Mondays at 6 p.m. A program for emergent readers ages 4 – 7 yrs. & their caregivers.  The program promotes early literacy skills with letter sounds & recognition\, activities & stories.  Each week children will receive a free book & parents will have learned activities to reinforce reading skills at home. Registration is limited & is required.
URL:https://cortlandfreelibrary.org/event/ready-set-read-52/2026-02-23/
LOCATION:Cortland Free Library\, 32 Church Street\, Cortland\, NY\, 13045\, United States
ATTACH;FMTTYPE=image/jpeg:https://cortlandfreelibrary.org/wp-content/uploads/2024/03/Free-abc-clipart.jpg
END:VEVENT
END:VCALENDAR