BEGIN:VCALENDAR
VERSION:2.0
PRODID:-//Cortland Free Library - ECPv6.15.17.1//NONSGML v1.0//EN
CALSCALE:GREGORIAN
METHOD:PUBLISH
X-WR-CALNAME:Cortland Free Library
X-ORIGINAL-URL:https://cortlandfreelibrary.org
X-WR-CALDESC:Events for Cortland Free Library
REFRESH-INTERVAL;VALUE=DURATION:PT1H
X-Robots-Tag:noindex
X-PUBLISHED-TTL:PT1H
BEGIN:VTIMEZONE
TZID:America/New_York
BEGIN:DAYLIGHT
TZOFFSETFROM:-0500
TZOFFSETTO:-0400
TZNAME:EDT
DTSTART:20250309T070000
END:DAYLIGHT
BEGIN:STANDARD
TZOFFSETFROM:-0400
TZOFFSETTO:-0500
TZNAME:EST
DTSTART:20251102T060000
END:STANDARD
BEGIN:DAYLIGHT
TZOFFSETFROM:-0500
TZOFFSETTO:-0400
TZNAME:EDT
DTSTART:20260308T070000
END:DAYLIGHT
BEGIN:STANDARD
TZOFFSETFROM:-0400
TZOFFSETTO:-0500
TZNAME:EST
DTSTART:20261101T060000
END:STANDARD
BEGIN:DAYLIGHT
TZOFFSETFROM:-0500
TZOFFSETTO:-0400
TZNAME:EDT
DTSTART:20270314T070000
END:DAYLIGHT
BEGIN:STANDARD
TZOFFSETFROM:-0400
TZOFFSETTO:-0500
TZNAME:EST
DTSTART:20271107T060000
END:STANDARD
END:VTIMEZONE
BEGIN:VEVENT
DTSTART;TZID=America/New_York:20260421T103000
DTEND;TZID=America/New_York:20260421T110000
DTSTAMP:20260423T134440
CREATED:20241121T135334Z
LAST-MODIFIED:20241121T135404Z
UID:10006621-1776767400-1776769200@cortlandfreelibrary.org
SUMMARY:Baby/Toddler Time
DESCRIPTION:Rhymes\, stories\, and songs designed for children from birth to age 2 & their caregivers. Registration is recommended.
URL:https://cortlandfreelibrary.org/event/baby-toddler-time-2/2026-04-21/
LOCATION:Cortland Free Library\, 32 Church Street\, Cortland\, NY\, 13045\, United States
ATTACH;FMTTYPE=image/png:https://cortlandfreelibrary.org/wp-content/uploads/2022/01/1280860803167512425baby-boy-with-teddy-md.png
END:VEVENT
BEGIN:VEVENT
DTSTART;TZID=America/New_York:20260421T160000
DTEND;TZID=America/New_York:20260421T170000
DTSTAMP:20260423T134440
CREATED:20260318T193141Z
LAST-MODIFIED:20260421T171504Z
UID:10009420-1776787200-1776790800@cortlandfreelibrary.org
SUMMARY:*Barnyard Bonanza: Sheep -Cancelled
DESCRIPTION:Join our special guest\, 2025 Cortland County Fair Queen Court\, as they share stories\, craft\, and activities all about SHEEP. This program is geared towards ages 4 – 8.  Registration is required.
URL:https://cortlandfreelibrary.org/event/barnyard-bonanza-sheep/
LOCATION:Cortland Free Library\, 32 Church Street\, Cortland\, NY\, 13045\, United States
ATTACH;FMTTYPE=image/png:https://cortlandfreelibrary.org/wp-content/uploads/2026/03/Sheep-Cute-Clip-Art-scaled.png
END:VEVENT
END:VCALENDAR