BEGIN:VCALENDAR
VERSION:2.0
PRODID:-//Cortland Free Library - ECPv6.15.17.1//NONSGML v1.0//EN
CALSCALE:GREGORIAN
METHOD:PUBLISH
X-WR-CALNAME:Cortland Free Library
X-ORIGINAL-URL:https://cortlandfreelibrary.org
X-WR-CALDESC:Events for Cortland Free Library
REFRESH-INTERVAL;VALUE=DURATION:PT1H
X-Robots-Tag:noindex
X-PUBLISHED-TTL:PT1H
BEGIN:VTIMEZONE
TZID:UTC
BEGIN:STANDARD
TZOFFSETFROM:+0000
TZOFFSETTO:+0000
TZNAME:UTC
DTSTART:20220101T000000
END:STANDARD
END:VTIMEZONE
BEGIN:VTIMEZONE
TZID:America/New_York
BEGIN:DAYLIGHT
TZOFFSETFROM:-0500
TZOFFSETTO:-0400
TZNAME:EDT
DTSTART:20220313T070000
END:DAYLIGHT
BEGIN:STANDARD
TZOFFSETFROM:-0400
TZOFFSETTO:-0500
TZNAME:EST
DTSTART:20221106T060000
END:STANDARD
BEGIN:DAYLIGHT
TZOFFSETFROM:-0500
TZOFFSETTO:-0400
TZNAME:EDT
DTSTART:20230312T070000
END:DAYLIGHT
BEGIN:STANDARD
TZOFFSETFROM:-0400
TZOFFSETTO:-0500
TZNAME:EST
DTSTART:20231105T060000
END:STANDARD
BEGIN:DAYLIGHT
TZOFFSETFROM:-0500
TZOFFSETTO:-0400
TZNAME:EDT
DTSTART:20240310T070000
END:DAYLIGHT
BEGIN:STANDARD
TZOFFSETFROM:-0400
TZOFFSETTO:-0500
TZNAME:EST
DTSTART:20241103T060000
END:STANDARD
END:VTIMEZONE
BEGIN:VEVENT
DTSTART;TZID=UTC:20230320T180000
DTEND;TZID=UTC:20230320T193000
DTSTAMP:20260422T233244
CREATED:20220112T013825Z
LAST-MODIFIED:20240313T135203Z
UID:10001186-1679335200-1679340600@cortlandfreelibrary.org
SUMMARY:Social Knitting
DESCRIPTION:Why work alone when you can work with others? Knitting\, crocheting\, sewing – bring whatever it is you are working on! Open to all skill levels (ages 12 and up). The group meets every Monday evening at 6 p.m.
URL:https://cortlandfreelibrary.org/event/social-knitting-2/2023-03-20/
LOCATION:Cortland Free Library\, 32 Church Street\, Cortland\, NY\, 13045\, United States
CATEGORIES:Adult Services Program
ATTACH;FMTTYPE=image/png:https://cortlandfreelibrary.org/wp-content/uploads/2022/01/knitters2.png
END:VEVENT
BEGIN:VEVENT
DTSTART;TZID=UTC:20230323T180000
DTEND;TZID=UTC:20230323T200000
DTSTAMP:20260422T233244
CREATED:20220112T015954Z
LAST-MODIFIED:20220114T203416Z
UID:10000880-1679594400-1679601600@cortlandfreelibrary.org
SUMMARY:Chess Club
DESCRIPTION:An all ages chess club for beginners and experts.  Meets every Thursday at 6 p.m. Beginners will get a lesson on the basics of chess and experts can meet and play.
URL:https://cortlandfreelibrary.org/event/chess-club-2/2023-03-23/
LOCATION:Cortland Free Library\, 32 Church Street\, Cortland\, NY\, 13045\, United States
CATEGORIES:Adult Services Program
ATTACH;FMTTYPE=image/png:https://cortlandfreelibrary.org/wp-content/uploads/2022/01/chess-pieces2.png
END:VEVENT
BEGIN:VEVENT
DTSTART;TZID=America/New_York:20230325T120000
DTEND;TZID=America/New_York:20230325T141500
DTSTAMP:20260422T233244
CREATED:20230224T184333Z
LAST-MODIFIED:20230224T184333Z
UID:10002247-1679745600-1679753700@cortlandfreelibrary.org
SUMMARY:Movie Matinee: "The Woman King"
DESCRIPTION:The remarkable story of the Agojie\, the all-female unit of warriors who protected the African Kingdom of Dahomey in the 1800s with skills and a ferocity unlike anything the world has ever seen. Inspired by true events\, it follows the emotionally epic journey of General Nanisca as she trains the next generation of recruits and prepares them for battle against an enemy determined to obliterate their way of life. Some things are worth fighting for. \nRating: PG-13 \nRuntime: 135 minutes \nRegistration not required.
URL:https://cortlandfreelibrary.org/event/movie-matinee-the-woman-king/
LOCATION:NY
CATEGORIES:Adult Services Program,Teen Program
END:VEVENT
END:VCALENDAR