BEGIN:VCALENDAR
VERSION:2.0
PRODID:-//Cortland Free Library - ECPv6.15.17.1//NONSGML v1.0//EN
CALSCALE:GREGORIAN
METHOD:PUBLISH
X-ORIGINAL-URL:https://cortlandfreelibrary.org
X-WR-CALDESC:Events for Cortland Free Library
REFRESH-INTERVAL;VALUE=DURATION:PT1H
X-Robots-Tag:noindex
X-PUBLISHED-TTL:PT1H
BEGIN:VTIMEZONE
TZID:UTC
BEGIN:STANDARD
TZOFFSETFROM:+0000
TZOFFSETTO:+0000
TZNAME:UTC
DTSTART:20220101T000000
END:STANDARD
END:VTIMEZONE
BEGIN:VTIMEZONE
TZID:America/New_York
BEGIN:DAYLIGHT
TZOFFSETFROM:-0500
TZOFFSETTO:-0400
TZNAME:EDT
DTSTART:20220313T070000
END:DAYLIGHT
BEGIN:STANDARD
TZOFFSETFROM:-0400
TZOFFSETTO:-0500
TZNAME:EST
DTSTART:20221106T060000
END:STANDARD
BEGIN:DAYLIGHT
TZOFFSETFROM:-0500
TZOFFSETTO:-0400
TZNAME:EDT
DTSTART:20230312T070000
END:DAYLIGHT
BEGIN:STANDARD
TZOFFSETFROM:-0400
TZOFFSETTO:-0500
TZNAME:EST
DTSTART:20231105T060000
END:STANDARD
BEGIN:DAYLIGHT
TZOFFSETFROM:-0500
TZOFFSETTO:-0400
TZNAME:EDT
DTSTART:20240310T070000
END:DAYLIGHT
BEGIN:STANDARD
TZOFFSETFROM:-0400
TZOFFSETTO:-0500
TZNAME:EST
DTSTART:20241103T060000
END:STANDARD
END:VTIMEZONE
BEGIN:VEVENT
DTSTART;TZID=UTC:20231023T180000
DTEND;TZID=UTC:20231023T193000
DTSTAMP:20260424T044435
CREATED:20220112T013825Z
LAST-MODIFIED:20240313T135203Z
UID:10001217-1698084000-1698089400@cortlandfreelibrary.org
SUMMARY:Social Knitting
DESCRIPTION:Why work alone when you can work with others? Knitting\, crocheting\, sewing – bring whatever it is you are working on! Open to all skill levels (ages 12 and up). The group meets every Monday evening at 6 p.m.
URL:https://cortlandfreelibrary.org/event/social-knitting-2/2023-10-23/
LOCATION:Cortland Free Library\, 32 Church Street\, Cortland\, NY\, 13045\, United States
CATEGORIES:Adult Services Program
ATTACH;FMTTYPE=image/png:https://cortlandfreelibrary.org/wp-content/uploads/2022/01/knitters2.png
END:VEVENT
BEGIN:VEVENT
DTSTART;TZID=UTC:20231026T180000
DTEND;TZID=UTC:20231026T200000
DTSTAMP:20260424T044435
CREATED:20220112T015954Z
LAST-MODIFIED:20220114T203416Z
UID:10000911-1698343200-1698350400@cortlandfreelibrary.org
SUMMARY:Chess Club
DESCRIPTION:An all ages chess club for beginners and experts.  Meets every Thursday at 6 p.m. Beginners will get a lesson on the basics of chess and experts can meet and play.
URL:https://cortlandfreelibrary.org/event/chess-club-2/2023-10-26/
LOCATION:Cortland Free Library\, 32 Church Street\, Cortland\, NY\, 13045\, United States
CATEGORIES:Adult Services Program
ATTACH;FMTTYPE=image/png:https://cortlandfreelibrary.org/wp-content/uploads/2022/01/chess-pieces2.png
END:VEVENT
BEGIN:VEVENT
DTSTART;TZID=America/New_York:20231028T120000
DTEND;TZID=America/New_York:20231028T140000
DTSTAMP:20260424T044435
CREATED:20230928T162140Z
LAST-MODIFIED:20230928T162140Z
UID:10003863-1698494400-1698501600@cortlandfreelibrary.org
SUMMARY:Movie Matinee
DESCRIPTION:Join us for a movie & popcorn! \nHocus Pocus: Three 17th-century witches\, hanged for their murderous crimes\, are resurrected on Halloween in modern-day Salem by an unsuspecting boy\, who must now figure out how to get them back in the ground. \n \nRated PG\, Common Sense Media suggests this movie is for 10+. Runtime: 95 minutes.  Registration is requested.\nOpen to ages 12 & up. \n 
URL:https://cortlandfreelibrary.org/event/movie-matinee-2/
LOCATION:Cortland Free Library\, 32 Church Street\, Cortland\, NY\, 13045\, United States
CATEGORIES:Adult Services Program
ATTACH;FMTTYPE=image/png:https://cortlandfreelibrary.org/wp-content/uploads/2023/08/Movie-night-7.23.png
END:VEVENT
END:VCALENDAR