BEGIN:VCALENDAR
VERSION:2.0
PRODID:-//Cortland Free Library - ECPv6.15.17.1//NONSGML v1.0//EN
CALSCALE:GREGORIAN
METHOD:PUBLISH
X-ORIGINAL-URL:https://cortlandfreelibrary.org
X-WR-CALDESC:Events for Cortland Free Library
REFRESH-INTERVAL;VALUE=DURATION:PT1H
X-Robots-Tag:noindex
X-PUBLISHED-TTL:PT1H
BEGIN:VTIMEZONE
TZID:America/New_York
BEGIN:DAYLIGHT
TZOFFSETFROM:-0500
TZOFFSETTO:-0400
TZNAME:EDT
DTSTART:20210314T070000
END:DAYLIGHT
BEGIN:STANDARD
TZOFFSETFROM:-0400
TZOFFSETTO:-0500
TZNAME:EST
DTSTART:20211107T060000
END:STANDARD
BEGIN:DAYLIGHT
TZOFFSETFROM:-0500
TZOFFSETTO:-0400
TZNAME:EDT
DTSTART:20220313T070000
END:DAYLIGHT
BEGIN:STANDARD
TZOFFSETFROM:-0400
TZOFFSETTO:-0500
TZNAME:EST
DTSTART:20221106T060000
END:STANDARD
BEGIN:DAYLIGHT
TZOFFSETFROM:-0500
TZOFFSETTO:-0400
TZNAME:EDT
DTSTART:20230312T070000
END:DAYLIGHT
BEGIN:STANDARD
TZOFFSETFROM:-0400
TZOFFSETTO:-0500
TZNAME:EST
DTSTART:20231105T060000
END:STANDARD
END:VTIMEZONE
BEGIN:VEVENT
DTSTART;TZID=America/New_York:20221220T120000
DTEND;TZID=America/New_York:20221220T130000
DTSTAMP:20260420T175549
CREATED:20221123T202506Z
LAST-MODIFIED:20221202T163943Z
UID:10002001-1671537600-1671541200@cortlandfreelibrary.org
SUMMARY:Taste & Tell Cookbook Book Club
DESCRIPTION:Do you enjoy cooking and / or baking? Join us as we discuss cookie recipes and have our annual Cookie Exchange! Bring your favorite cookie recipe (we’ll make copies here) and 2 dozen of them to share! We will also be decorating cookies! Open to ages 12 and older.  Registration is required.
URL:https://cortlandfreelibrary.org/event/taste-tell-cookbook-book-club/
LOCATION:Cortland Free Library\, 32 Church Street\, Cortland\, NY\, 13045\, United States
CATEGORIES:Book Club
ATTACH;FMTTYPE=image/png:https://cortlandfreelibrary.org/wp-content/uploads/2022/11/cookies.png
END:VEVENT
BEGIN:VEVENT
DTSTART;TZID=America/New_York:20221220T180000
DTEND;TZID=America/New_York:20221220T190000
DTSTAMP:20260420T175549
CREATED:20221123T204154Z
LAST-MODIFIED:20221202T164019Z
UID:10002002-1671559200-1671562800@cortlandfreelibrary.org
SUMMARY:Taste & Tell Cookbook Book Club
DESCRIPTION:Do you enjoy cooking and / or baking? Join us as we discuss cookie recipes and have our annual Cookie Exchange! Bring your favorite cookie recipe (we’ll make copies here) and 2 dozen of them to share! We will also be decorating cookies! Open to ages 12 and older.  Registration is required.
URL:https://cortlandfreelibrary.org/event/taste-tell-cookbook-book-club-2/
LOCATION:Cortland Free Library\, 32 Church Street\, Cortland\, NY\, 13045\, United States
CATEGORIES:Book Club
ATTACH;FMTTYPE=image/png:https://cortlandfreelibrary.org/wp-content/uploads/2022/11/cookies.png
END:VEVENT
END:VCALENDAR