BEGIN:VCALENDAR
VERSION:2.0
PRODID:-//Cortland Free Library - ECPv6.15.17.1//NONSGML v1.0//EN
CALSCALE:GREGORIAN
METHOD:PUBLISH
X-WR-CALNAME:Cortland Free Library
X-ORIGINAL-URL:https://cortlandfreelibrary.org
X-WR-CALDESC:Events for Cortland Free Library
REFRESH-INTERVAL;VALUE=DURATION:PT1H
X-Robots-Tag:noindex
X-PUBLISHED-TTL:PT1H
BEGIN:VTIMEZONE
TZID:UTC
BEGIN:STANDARD
TZOFFSETFROM:+0000
TZOFFSETTO:+0000
TZNAME:UTC
DTSTART:20220101T000000
END:STANDARD
END:VTIMEZONE
BEGIN:VEVENT
DTSTART;TZID=UTC:20231018T183000
DTEND;TZID=UTC:20231018T193000
DTSTAMP:20260421T021218
CREATED:20230921T143650Z
LAST-MODIFIED:20230921T143843Z
UID:10002257-1697653800-1697657400@cortlandfreelibrary.org
SUMMARY:Cortland Free Library Board of Trustees Meeting
DESCRIPTION:Members of the public who wish to speak during the public comment portion of the meeting are encouraged to notify the library in advance and must also sign in at the meeting. To notify the library\, please email director@cortlandfreelibrary.org and/or cfltrustees@gmail.com. \nView the Public Comment at Board Meetings policy here. \nView meeting agendas and minutes here.
URL:https://cortlandfreelibrary.org/event/board-of-trustees-2-2-2/2023-10-18/
LOCATION:Cortland Free Library\, 32 Church Street\, Cortland\, NY\, 13045\, United States
CATEGORIES:Meeting
END:VEVENT
END:VCALENDAR