BEGIN:VCALENDAR
VERSION:2.0
PRODID:-//Cortland Free Library - ECPv6.15.17.1//NONSGML v1.0//EN
CALSCALE:GREGORIAN
METHOD:PUBLISH
X-ORIGINAL-URL:https://cortlandfreelibrary.org
X-WR-CALDESC:Events for Cortland Free Library
REFRESH-INTERVAL;VALUE=DURATION:PT1H
X-Robots-Tag:noindex
X-PUBLISHED-TTL:PT1H
BEGIN:VTIMEZONE
TZID:America/New_York
BEGIN:DAYLIGHT
TZOFFSETFROM:-0500
TZOFFSETTO:-0400
TZNAME:EDT
DTSTART:20220313T070000
END:DAYLIGHT
BEGIN:STANDARD
TZOFFSETFROM:-0400
TZOFFSETTO:-0500
TZNAME:EST
DTSTART:20221106T060000
END:STANDARD
BEGIN:DAYLIGHT
TZOFFSETFROM:-0500
TZOFFSETTO:-0400
TZNAME:EDT
DTSTART:20230312T070000
END:DAYLIGHT
BEGIN:STANDARD
TZOFFSETFROM:-0400
TZOFFSETTO:-0500
TZNAME:EST
DTSTART:20231105T060000
END:STANDARD
BEGIN:DAYLIGHT
TZOFFSETFROM:-0500
TZOFFSETTO:-0400
TZNAME:EDT
DTSTART:20240310T070000
END:DAYLIGHT
BEGIN:STANDARD
TZOFFSETFROM:-0400
TZOFFSETTO:-0500
TZNAME:EST
DTSTART:20241103T060000
END:STANDARD
END:VTIMEZONE
BEGIN:VEVENT
DTSTART;TZID=America/New_York:20230423T160000
DTEND;TZID=America/New_York:20230423T190000
DTSTAMP:20260424T135308
CREATED:20230330T192317Z
LAST-MODIFIED:20230330T210848Z
UID:10002365-1682265600-1682276400@cortlandfreelibrary.org
SUMMARY:Stone Soup Community Dinner
DESCRIPTION:The Cops Outreach Program (C.O.P.S) and Cortland Restaurant & Tavern Association are hosting a  Stone Soup Community Dinner on Court Street. Join us for this free event and enjoy live music\, activities for kids\, an interactive story with Miss Tammy\, and of course SOUP!
URL:https://cortlandfreelibrary.org/event/stone-soup-community-dinner/
LOCATION:NY
CATEGORIES:Special Event
ATTACH;FMTTYPE=image/jpeg:https://cortlandfreelibrary.org/wp-content/uploads/2023/03/download.jpg
END:VEVENT
END:VCALENDAR