BEGIN:VCALENDAR
VERSION:2.0
PRODID:-//Cortland Free Library - ECPv6.15.17.1//NONSGML v1.0//EN
CALSCALE:GREGORIAN
METHOD:PUBLISH
X-ORIGINAL-URL:https://cortlandfreelibrary.org
X-WR-CALDESC:Events for Cortland Free Library
REFRESH-INTERVAL;VALUE=DURATION:PT1H
X-Robots-Tag:noindex
X-PUBLISHED-TTL:PT1H
BEGIN:VTIMEZONE
TZID:America/New_York
BEGIN:DAYLIGHT
TZOFFSETFROM:-0500
TZOFFSETTO:-0400
TZNAME:EDT
DTSTART:20220313T070000
END:DAYLIGHT
BEGIN:STANDARD
TZOFFSETFROM:-0400
TZOFFSETTO:-0500
TZNAME:EST
DTSTART:20221106T060000
END:STANDARD
BEGIN:DAYLIGHT
TZOFFSETFROM:-0500
TZOFFSETTO:-0400
TZNAME:EDT
DTSTART:20230312T070000
END:DAYLIGHT
BEGIN:STANDARD
TZOFFSETFROM:-0400
TZOFFSETTO:-0500
TZNAME:EST
DTSTART:20231105T060000
END:STANDARD
BEGIN:DAYLIGHT
TZOFFSETFROM:-0500
TZOFFSETTO:-0400
TZNAME:EDT
DTSTART:20240310T070000
END:DAYLIGHT
BEGIN:STANDARD
TZOFFSETFROM:-0400
TZOFFSETTO:-0500
TZNAME:EST
DTSTART:20241103T060000
END:STANDARD
END:VTIMEZONE
BEGIN:VEVENT
DTSTART;TZID=America/New_York:20230712T180000
DTEND;TZID=America/New_York:20230712T190000
DTSTAMP:20260425T065227
CREATED:20230621T142301Z
LAST-MODIFIED:20230621T142301Z
UID:10002622-1689184800-1689188400@cortlandfreelibrary.org
SUMMARY:American Sign Language
DESCRIPTION:Join ASL Interpreter Kristina Furi to learn about ASL & some basic Sign Language. \nOpen to ages 12 & up.  Registration is required.
URL:https://cortlandfreelibrary.org/event/american-sign-language/
LOCATION:Cortland Free Library\, 32 Church Street\, Cortland\, NY\, 13045\, United States
CATEGORIES:Special Event
ATTACH;FMTTYPE=image/png:https://cortlandfreelibrary.org/wp-content/uploads/2023/06/ASL-7.23.png
END:VEVENT
BEGIN:VEVENT
DTSTART;TZID=America/New_York:20230715T100000
DTEND;TZID=America/New_York:20230715T150000
DTSTAMP:20260425T065227
CREATED:20230501T200340Z
LAST-MODIFIED:20230711T201808Z
UID:10002419-1689415200-1689433200@cortlandfreelibrary.org
SUMMARY:Cortland Community Pride Festival Workshops @ The Library
DESCRIPTION:The Cortland LGBTQ Center is holding Cortland Community Pride Festival in Courthouse Park from 10 a.m. to 2 p.m. \nJoin us at the library for the following Pride Festival Workshops! \n  \nPeriodicals Room \n10:30-11:20 a.m.: Erin Vallely & Aster Parrott Self Care While Disabled and Queer: Erin and Aster will facilitate a conversation about ways to advocate for yourself\, build community\, and be a better ally for your disabled queer friends. There are countless ways to be queer –it’s an umbrella that covers anyone who’s not both cisgender and straight. Likewise\, there are countless ways to be disabled. Research from multiple sources tells us that disabilities are more common for queer people than for cis-het people\, and that queer disabled folks face unique challenges because of their intersecting identities. \nMeeting Room \n11-11:50am – Garry Haraveth\, The Science of Happiness: During this fun and engaging workshop\, you will learn what we think makes us happy but ultimately may not; what science-backed research says may make us a happier person; concrete practices to live a happier life! Gary is an educator and life coach/owner of Gay Life Journey. \n1-1:50pm – Ashley Dickson: Peer Services for Queer Youth and Young Adults (ASAP approved\, 1 hour continuing ed credit for CRPA). This presentation aims to explore how to engage with people in an LGBTQIA+ affirming way and how to correct non-affirming actions if/when they happen. You will learn how to interact and engage with LGBTQIA+ identifying youth and young adults in their substance use and/or mental health recovery journey; an overview of vocabulary used within the LGBTQIA+ community; the prevalence of LGBTQIA+ identifying people with substance use disorders and/or mental illness; supports that the LGBTQ+ community have within treatment settings; what providers can do to provide and improve affirming care. \n  \nPeriodicals Room \n2-2:50pm – Isabel Sterling: The Path to Publication. Isabel Sterling\, author of These Witches Don’t Burn\, This Coven Won’t Break\, and The Coldest Touch\, breaks down her path to publication–from small town reading enthusiast to traditionally published author with queer YA novels available in 4 languages worldwide! Presentation includes an author Q&A and book signing. Isabel Sterling is a master certified life coach\, foster mom\, and host of The Author Burnout Cure Podcast. An alumna of Purchase College and Syracuse University\, Isabel spent several years working in higher education and LGBTQ non-profits before leaving to write and coach full-time. Isabel lives with her family in Central New York.
URL:https://cortlandfreelibrary.org/event/pride-event/
LOCATION:NY
CATEGORIES:Special Event
END:VEVENT
BEGIN:VEVENT
DTSTART;TZID=America/New_York:20230715T140000
DTEND;TZID=America/New_York:20230715T144500
DTSTAMP:20260425T065227
CREATED:20230523T145421Z
LAST-MODIFIED:20230628T200600Z
UID:10002512-1689429600-1689432300@cortlandfreelibrary.org
SUMMARY:The Path to Publication with Isabel Sterling
DESCRIPTION:Isabel Sterling\, author of These Witches Don’t Burn\, This Coven Won’t Break\, and The Coldest Touch\, breaks down her path to publication—from small town reading enthusiast to traditionally published author with queer YA novels available in 4 languages worldwide! Presentation includes an author Q&A and book signing. Registration recommended but not required. \nIsabel Sterling is a master certified life coach\, foster mom\, and host of The Author Burnout Cure Podcast. An alumna of Purchase College and Syracuse University\, Isabel spent several years working in higher education and LGBTQ non-profits before leaving to write and coach full-time. Isabel lives with her family in Central New York.
URL:https://cortlandfreelibrary.org/event/pride-day-program-the-path-to-publication/
LOCATION:Cortland Free Library\, 32 Church Street\, Cortland\, NY\, 13045\, United States
CATEGORIES:Adult Services Program,Special Event,Teen Program
ATTACH;FMTTYPE=image/jpeg:https://cortlandfreelibrary.org/wp-content/uploads/2023/05/Isabel-Sterling-Author-Photo-e1685124198343.jpg
END:VEVENT
END:VCALENDAR