BEGIN:VCALENDAR
VERSION:2.0
PRODID:-//Cortland Free Library - ECPv6.15.17.1//NONSGML v1.0//EN
CALSCALE:GREGORIAN
METHOD:PUBLISH
X-WR-CALNAME:Cortland Free Library
X-ORIGINAL-URL:https://cortlandfreelibrary.org
X-WR-CALDESC:Events for Cortland Free Library
REFRESH-INTERVAL;VALUE=DURATION:PT1H
X-Robots-Tag:noindex
X-PUBLISHED-TTL:PT1H
BEGIN:VTIMEZONE
TZID:UTC
BEGIN:STANDARD
TZOFFSETFROM:+0000
TZOFFSETTO:+0000
TZNAME:UTC
DTSTART:20210101T000000
END:STANDARD
END:VTIMEZONE
BEGIN:VEVENT
DTSTART;TZID=UTC:20220210T180000
DTEND;TZID=UTC:20220210T190000
DTSTAMP:20260422T132407
CREATED:20210826T233412Z
LAST-MODIFIED:20210901T221837Z
UID:10000362-1644516000-1644519600@cortlandfreelibrary.org
SUMMARY:Chess Club
DESCRIPTION:An all ages chess club for beginners and experts. Meets every Thursday at 6 p.m. in the library’s Periodicals Room. Beginners will get a lesson on the basics of chess and experts can meet and play!
URL:https://cortlandfreelibrary.org/event/chess-club/2022-02-10/
LOCATION:Cortland Free Library\, 32 Church Street\, Cortland\, NY\, 13045\, United States
CATEGORIES:Adult Services Program,Teen Program,Youth Services Program
ATTACH;FMTTYPE=image/png:https://cortlandfreelibrary.org/wp-content/uploads/2021/08/chess-pieces.png
END:VEVENT
BEGIN:VEVENT
DTSTART;TZID=UTC:20220212T093000
DTEND;TZID=UTC:20220212T150000
DTSTAMP:20260422T132407
CREATED:20220128T021952Z
LAST-MODIFIED:20220208T220814Z
UID:10001496-1644658200-1644678000@cortlandfreelibrary.org
SUMMARY:Black History Month Celebration
DESCRIPTION:Join us for a special celebration in honor of Black History month. This year’s theme is Black Health & Wellness. \nRecommended reading lists\, playlists\, and watchlists will be available and we will showcase work by black artists\, including a screening of The Immortal Life of Henrietta Lacks at noon. \nRuntime: 1 hour\, 32 mins.
URL:https://cortlandfreelibrary.org/event/black-history-month-celebration/
LOCATION:Cortland Free Library\, 32 Church Street\, Cortland\, NY\, 13045\, United States
CATEGORIES:Adult Services Program,Special Event,Teen Program
ATTACH;FMTTYPE=image/jpeg:https://cortlandfreelibrary.org/wp-content/uploads/2022/01/Immortal-Life-of-Henrietta-Lacks.jpg
END:VEVENT
END:VCALENDAR