BEGIN:VCALENDAR
VERSION:2.0
PRODID:-//Cortland Free Library - ECPv6.15.17.1//NONSGML v1.0//EN
CALSCALE:GREGORIAN
METHOD:PUBLISH
X-ORIGINAL-URL:https://cortlandfreelibrary.org
X-WR-CALDESC:Events for Cortland Free Library
REFRESH-INTERVAL;VALUE=DURATION:PT1H
X-Robots-Tag:noindex
X-PUBLISHED-TTL:PT1H
BEGIN:VTIMEZONE
TZID:UTC
BEGIN:STANDARD
TZOFFSETFROM:+0000
TZOFFSETTO:+0000
TZNAME:UTC
DTSTART:20280101T000000
END:STANDARD
END:VTIMEZONE
BEGIN:VTIMEZONE
TZID:America/New_York
BEGIN:DAYLIGHT
TZOFFSETFROM:-0500
TZOFFSETTO:-0400
TZNAME:EDT
DTSTART:20280312T070000
END:DAYLIGHT
BEGIN:STANDARD
TZOFFSETFROM:-0400
TZOFFSETTO:-0500
TZNAME:EST
DTSTART:20281105T060000
END:STANDARD
BEGIN:DAYLIGHT
TZOFFSETFROM:-0500
TZOFFSETTO:-0400
TZNAME:EDT
DTSTART:20290311T070000
END:DAYLIGHT
BEGIN:STANDARD
TZOFFSETFROM:-0400
TZOFFSETTO:-0500
TZNAME:EST
DTSTART:20291104T060000
END:STANDARD
BEGIN:DAYLIGHT
TZOFFSETFROM:-0500
TZOFFSETTO:-0400
TZNAME:EDT
DTSTART:20300310T070000
END:DAYLIGHT
BEGIN:STANDARD
TZOFFSETFROM:-0400
TZOFFSETTO:-0500
TZNAME:EST
DTSTART:20301103T060000
END:STANDARD
END:VTIMEZONE
BEGIN:VEVENT
DTSTART;TZID=UTC:20290726T170000
DTEND;TZID=UTC:20290726T200000
DTSTAMP:20260424T221059
CREATED:20240501T232556Z
LAST-MODIFIED:20240626T214711Z
UID:10006484-1879779600-1879790400@cortlandfreelibrary.org
SUMMARY:Chess Club
DESCRIPTION:An all ages chess club for beginners and experts.  Meets every Thursday at 5 p.m. Beginners will get a lesson on the basics of chess and experts can meet and play.
URL:https://cortlandfreelibrary.org/event/chess-club-2-4/2029-07-26/
LOCATION:Cortland Free Library\, 32 Church Street\, Cortland\, NY\, 13045\, United States
CATEGORIES:Adult Services Program
ATTACH;FMTTYPE=image/png:https://cortlandfreelibrary.org/wp-content/uploads/2022/01/chess-pieces2.png
END:VEVENT
BEGIN:VEVENT
DTSTART;TZID=America/New_York:20290730T130000
DTEND;TZID=America/New_York:20290730T140000
DTSTAMP:20260424T221059
CREATED:20250812T194549Z
LAST-MODIFIED:20250929T160115Z
UID:10008528-1880110800-1880114400@cortlandfreelibrary.org
SUMMARY:*Homeschool Get Ready To Read
DESCRIPTION:Mondays at 1 p.m. A program for emergent readers ages 4 – 7 yrs. & their caregivers.  The program promotes early literacy skills with letter sounds & recognition\, activities & stories.  Each week children will receive a free book & parents will have learned activities to reinforce reading skills at home. Registration is limited & is required.
URL:https://cortlandfreelibrary.org/event/homeschool-get-ready-to-read-49/2029-07-30/
LOCATION:Cortland Free Library\, 32 Church Street\, Cortland\, NY\, 13045\, United States
ATTACH;FMTTYPE=image/jpeg:https://cortlandfreelibrary.org/wp-content/uploads/2022/08/Free-abc-clipart.jpg
END:VEVENT
BEGIN:VEVENT
DTSTART;TZID=America/New_York:20290730T180000
DTEND;TZID=America/New_York:20290730T190000
DTSTAMP:20260424T221059
CREATED:20250813T142205Z
LAST-MODIFIED:20250813T142205Z
UID:10008275-1880128800-1880132400@cortlandfreelibrary.org
SUMMARY:*Ready\, Set\, Read!
DESCRIPTION:Mondays at 6 p.m. A program for emergent readers ages 4 – 7 yrs. & their caregivers.  The program promotes early literacy skills with letter sounds & recognition\, activities & stories.  Each week children will receive a free book & parents will have learned activities to reinforce reading skills at home. Registration is limited & is required.
URL:https://cortlandfreelibrary.org/event/ready-set-read-52/2029-07-30/
LOCATION:Cortland Free Library\, 32 Church Street\, Cortland\, NY\, 13045\, United States
ATTACH;FMTTYPE=image/jpeg:https://cortlandfreelibrary.org/wp-content/uploads/2024/03/Free-abc-clipart.jpg
END:VEVENT
BEGIN:VEVENT
DTSTART;TZID=America/New_York:20290731T103000
DTEND;TZID=America/New_York:20290731T110000
DTSTAMP:20260424T221059
CREATED:20241121T135334Z
LAST-MODIFIED:20241121T135404Z
UID:10006792-1880188200-1880190000@cortlandfreelibrary.org
SUMMARY:Baby/Toddler Time
DESCRIPTION:Rhymes\, stories\, and songs designed for children from birth to age 2 & their caregivers. Registration is recommended.
URL:https://cortlandfreelibrary.org/event/baby-toddler-time-2/2029-07-31/
LOCATION:Cortland Free Library\, 32 Church Street\, Cortland\, NY\, 13045\, United States
ATTACH;FMTTYPE=image/png:https://cortlandfreelibrary.org/wp-content/uploads/2022/01/1280860803167512425baby-boy-with-teddy-md.png
END:VEVENT
BEGIN:VEVENT
DTSTART;TZID=UTC:20290731T140000
DTEND;TZID=UTC:20290731T150000
DTSTAMP:20260424T221059
CREATED:20230622T184124Z
LAST-MODIFIED:20240130T180525Z
UID:10005810-1880200800-1880204400@cortlandfreelibrary.org
SUMMARY:Craft Club
DESCRIPTION:Come get crafty with us! Open to ages 12 and up.  Registration is required.
URL:https://cortlandfreelibrary.org/event/craft-club-3-2/2029-07-31/
LOCATION:Cortland Free Library\, 32 Church Street\, Cortland\, NY\, 13045\, United States
CATEGORIES:Adult Services Program
ATTACH;FMTTYPE=image/png:https://cortlandfreelibrary.org/wp-content/uploads/2022/01/summer21.png
END:VEVENT
BEGIN:VEVENT
DTSTART;TZID=America/New_York:20290731T160000
DTEND;TZID=America/New_York:20290731T170000
DTSTAMP:20260424T221059
CREATED:20250813T142614Z
LAST-MODIFIED:20250826T211705Z
UID:10008691-1880208000-1880211600@cortlandfreelibrary.org
SUMMARY:*Crafty Kids
DESCRIPTION:We will meet to make a different craft each month. Meets monthly on the last Tuesday at 4 p.m. Open to ages 6 – 12 yrs. Registration is limited & is required each month.
URL:https://cortlandfreelibrary.org/event/crafty-kids-20/2029-07-31/
LOCATION:Cortland Free Library\, 32 Church Street\, Cortland\, NY\, 13045\, United States
ATTACH;FMTTYPE=image/png:https://cortlandfreelibrary.org/wp-content/uploads/2024/03/crafty-kids.png
END:VEVENT
BEGIN:VEVENT
DTSTART;TZID=America/New_York:20290801T160000
DTEND;TZID=America/New_York:20290801T170000
DTSTAMP:20260424T221059
CREATED:20250915T214943Z
LAST-MODIFIED:20250915T223229Z
UID:10008834-1880294400-1880298000@cortlandfreelibrary.org
SUMMARY:*LEGO Club
DESCRIPTION:Come join our LEGO club & have some building fun! Each session we’ll have a challenge & a game. LEGO Club meets on the first & third Wednesday of each month at 4 p.m. Registration is required each month. Please sign up for one day only. Open to ages 4 – 12 yrs.
URL:https://cortlandfreelibrary.org/event/lego-club-57/2029-08-01/
LOCATION:Cortland Free Library\, 32 Church Street\, Cortland\, NY\, 13045\, United States
ATTACH;FMTTYPE=image/png:https://cortlandfreelibrary.org/wp-content/uploads/2024/03/legos.png
END:VEVENT
BEGIN:VEVENT
DTSTART;TZID=America/New_York:20290802T103000
DTEND;TZID=America/New_York:20290802T110000
DTSTAMP:20260424T221059
CREATED:20240614T183249Z
LAST-MODIFIED:20240705T162257Z
UID:10005819-1880361000-1880362800@cortlandfreelibrary.org
SUMMARY:Preschool Story Time
DESCRIPTION:Stories\, songs\, and activities with a different theme each week. All ages are welcome but this program is designed for children ages 3-5 yrs.
URL:https://cortlandfreelibrary.org/event/preschool-story-time-3/2029-08-02/
LOCATION:Cortland Free Library\, 32 Church Street\, Cortland\, NY\, 13045\, United States
ATTACH;FMTTYPE=image/png:https://cortlandfreelibrary.org/wp-content/uploads/2022/01/unnamed.png
END:VEVENT
BEGIN:VEVENT
DTSTART;TZID=America/New_York:20290802T160000
DTEND;TZID=America/New_York:20290802T170000
DTSTAMP:20260424T221059
CREATED:20240326T200906Z
LAST-MODIFIED:20250915T223325Z
UID:10005828-1880380800-1880384400@cortlandfreelibrary.org
SUMMARY:*Teen Advisory Board
DESCRIPTION:Play some games & be a part of planning future teen programs! Open to ages 12 -18 yrs. Registration is required.
URL:https://cortlandfreelibrary.org/event/teen-advisory-board-9/2029-08-02/
LOCATION:Cortland Free Library\, 32 Church Street\, Cortland\, NY\, 13045\, United States
ATTACH;FMTTYPE=image/jpeg:https://cortlandfreelibrary.org/wp-content/uploads/2024/03/tab.jpg
END:VEVENT
BEGIN:VEVENT
DTSTART;TZID=UTC:20290802T170000
DTEND;TZID=UTC:20290802T200000
DTSTAMP:20260424T221059
CREATED:20240501T232556Z
LAST-MODIFIED:20240626T214711Z
UID:10006485-1880384400-1880395200@cortlandfreelibrary.org
SUMMARY:Chess Club
DESCRIPTION:An all ages chess club for beginners and experts.  Meets every Thursday at 5 p.m. Beginners will get a lesson on the basics of chess and experts can meet and play.
URL:https://cortlandfreelibrary.org/event/chess-club-2-4/2029-08-02/
LOCATION:Cortland Free Library\, 32 Church Street\, Cortland\, NY\, 13045\, United States
CATEGORIES:Adult Services Program
ATTACH;FMTTYPE=image/png:https://cortlandfreelibrary.org/wp-content/uploads/2022/01/chess-pieces2.png
END:VEVENT
BEGIN:VEVENT
DTSTART;VALUE=DATE:20290803
DTEND;VALUE=DATE:20290804
DTSTAMP:20260424T221059
CREATED:20241121T161919Z
LAST-MODIFIED:20241121T164213Z
UID:10007137-1880409600-1880495999@cortlandfreelibrary.org
SUMMARY:Preschool Projects Take & Make
DESCRIPTION:Supplies available on a first come first serve basis on the First Friday of the month for ages 3-5 years old.
URL:https://cortlandfreelibrary.org/event/preschool-projects-take-make-10/2029-08-03/
LOCATION:Cortland Free Library\, 32 Church Street\, Cortland\, NY\, 13045\, United States
ATTACH;FMTTYPE=image/png:https://cortlandfreelibrary.org/wp-content/uploads/2024/03/preschool-projects-2.png
END:VEVENT
BEGIN:VEVENT
DTSTART;TZID=America/New_York:20290803T093000
DTEND;TZID=America/New_York:20290803T170000
DTSTAMP:20260424T221059
CREATED:20250618T135919Z
LAST-MODIFIED:20250618T140128Z
UID:10007886-1880443800-1880470800@cortlandfreelibrary.org
SUMMARY:Paper Wishes (DIY Greeting Card)
DESCRIPTION:A bag with supplies and directions provided to make a greeting card at home will be available to pick up on a first come first serve basis beginning on the first Friday of the month.  Open to ages 12 and up.
URL:https://cortlandfreelibrary.org/event/paper-wishes-diy-greeting-card-5-2-3/2029-08-03/
LOCATION:Cortland Free Library\, 32 Church Street\, Cortland\, NY\, 13045\, United States
CATEGORIES:Take & Make Craft
ATTACH;FMTTYPE=image/png:https://cortlandfreelibrary.org/wp-content/uploads/2023/01/cardmaking-general.png
END:VEVENT
BEGIN:VEVENT
DTSTART;TZID=America/New_York:20290806T130000
DTEND;TZID=America/New_York:20290806T140000
DTSTAMP:20260424T221059
CREATED:20250812T194549Z
LAST-MODIFIED:20250929T160115Z
UID:10008529-1880715600-1880719200@cortlandfreelibrary.org
SUMMARY:*Homeschool Get Ready To Read
DESCRIPTION:Mondays at 1 p.m. A program for emergent readers ages 4 – 7 yrs. & their caregivers.  The program promotes early literacy skills with letter sounds & recognition\, activities & stories.  Each week children will receive a free book & parents will have learned activities to reinforce reading skills at home. Registration is limited & is required.
URL:https://cortlandfreelibrary.org/event/homeschool-get-ready-to-read-49/2029-08-06/
LOCATION:Cortland Free Library\, 32 Church Street\, Cortland\, NY\, 13045\, United States
ATTACH;FMTTYPE=image/jpeg:https://cortlandfreelibrary.org/wp-content/uploads/2022/08/Free-abc-clipart.jpg
END:VEVENT
BEGIN:VEVENT
DTSTART;TZID=America/New_York:20290806T180000
DTEND;TZID=America/New_York:20290806T190000
DTSTAMP:20260424T221059
CREATED:20250813T142205Z
LAST-MODIFIED:20250813T142205Z
UID:10008276-1880733600-1880737200@cortlandfreelibrary.org
SUMMARY:*Ready\, Set\, Read!
DESCRIPTION:Mondays at 6 p.m. A program for emergent readers ages 4 – 7 yrs. & their caregivers.  The program promotes early literacy skills with letter sounds & recognition\, activities & stories.  Each week children will receive a free book & parents will have learned activities to reinforce reading skills at home. Registration is limited & is required.
URL:https://cortlandfreelibrary.org/event/ready-set-read-52/2029-08-06/
LOCATION:Cortland Free Library\, 32 Church Street\, Cortland\, NY\, 13045\, United States
ATTACH;FMTTYPE=image/jpeg:https://cortlandfreelibrary.org/wp-content/uploads/2024/03/Free-abc-clipart.jpg
END:VEVENT
BEGIN:VEVENT
DTSTART;TZID=America/New_York:20290807T103000
DTEND;TZID=America/New_York:20290807T110000
DTSTAMP:20260424T221059
CREATED:20241121T135334Z
LAST-MODIFIED:20241121T135404Z
UID:10006793-1880793000-1880794800@cortlandfreelibrary.org
SUMMARY:Baby/Toddler Time
DESCRIPTION:Rhymes\, stories\, and songs designed for children from birth to age 2 & their caregivers. Registration is recommended.
URL:https://cortlandfreelibrary.org/event/baby-toddler-time-2/2029-08-07/
LOCATION:Cortland Free Library\, 32 Church Street\, Cortland\, NY\, 13045\, United States
ATTACH;FMTTYPE=image/png:https://cortlandfreelibrary.org/wp-content/uploads/2022/01/1280860803167512425baby-boy-with-teddy-md.png
END:VEVENT
BEGIN:VEVENT
DTSTART;TZID=America/New_York:20290809T103000
DTEND;TZID=America/New_York:20290809T110000
DTSTAMP:20260424T221059
CREATED:20240614T183249Z
LAST-MODIFIED:20240705T162257Z
UID:10005820-1880965800-1880967600@cortlandfreelibrary.org
SUMMARY:Preschool Story Time
DESCRIPTION:Stories\, songs\, and activities with a different theme each week. All ages are welcome but this program is designed for children ages 3-5 yrs.
URL:https://cortlandfreelibrary.org/event/preschool-story-time-3/2029-08-09/
LOCATION:Cortland Free Library\, 32 Church Street\, Cortland\, NY\, 13045\, United States
ATTACH;FMTTYPE=image/png:https://cortlandfreelibrary.org/wp-content/uploads/2022/01/unnamed.png
END:VEVENT
BEGIN:VEVENT
DTSTART;TZID=UTC:20290809T170000
DTEND;TZID=UTC:20290809T200000
DTSTAMP:20260424T221059
CREATED:20240501T232556Z
LAST-MODIFIED:20240626T214711Z
UID:10006486-1880989200-1881000000@cortlandfreelibrary.org
SUMMARY:Chess Club
DESCRIPTION:An all ages chess club for beginners and experts.  Meets every Thursday at 5 p.m. Beginners will get a lesson on the basics of chess and experts can meet and play.
URL:https://cortlandfreelibrary.org/event/chess-club-2-4/2029-08-09/
LOCATION:Cortland Free Library\, 32 Church Street\, Cortland\, NY\, 13045\, United States
CATEGORIES:Adult Services Program
ATTACH;FMTTYPE=image/png:https://cortlandfreelibrary.org/wp-content/uploads/2022/01/chess-pieces2.png
END:VEVENT
BEGIN:VEVENT
DTSTART;TZID=America/New_York:20290813T130000
DTEND;TZID=America/New_York:20290813T140000
DTSTAMP:20260424T221059
CREATED:20250812T194549Z
LAST-MODIFIED:20250929T160115Z
UID:10008530-1881320400-1881324000@cortlandfreelibrary.org
SUMMARY:*Homeschool Get Ready To Read
DESCRIPTION:Mondays at 1 p.m. A program for emergent readers ages 4 – 7 yrs. & their caregivers.  The program promotes early literacy skills with letter sounds & recognition\, activities & stories.  Each week children will receive a free book & parents will have learned activities to reinforce reading skills at home. Registration is limited & is required.
URL:https://cortlandfreelibrary.org/event/homeschool-get-ready-to-read-49/2029-08-13/
LOCATION:Cortland Free Library\, 32 Church Street\, Cortland\, NY\, 13045\, United States
ATTACH;FMTTYPE=image/jpeg:https://cortlandfreelibrary.org/wp-content/uploads/2022/08/Free-abc-clipart.jpg
END:VEVENT
BEGIN:VEVENT
DTSTART;TZID=America/New_York:20290813T180000
DTEND;TZID=America/New_York:20290813T190000
DTSTAMP:20260424T221059
CREATED:20250813T142205Z
LAST-MODIFIED:20250813T142205Z
UID:10008277-1881338400-1881342000@cortlandfreelibrary.org
SUMMARY:*Ready\, Set\, Read!
DESCRIPTION:Mondays at 6 p.m. A program for emergent readers ages 4 – 7 yrs. & their caregivers.  The program promotes early literacy skills with letter sounds & recognition\, activities & stories.  Each week children will receive a free book & parents will have learned activities to reinforce reading skills at home. Registration is limited & is required.
URL:https://cortlandfreelibrary.org/event/ready-set-read-52/2029-08-13/
LOCATION:Cortland Free Library\, 32 Church Street\, Cortland\, NY\, 13045\, United States
ATTACH;FMTTYPE=image/jpeg:https://cortlandfreelibrary.org/wp-content/uploads/2024/03/Free-abc-clipart.jpg
END:VEVENT
BEGIN:VEVENT
DTSTART;TZID=America/New_York:20290814T103000
DTEND;TZID=America/New_York:20290814T110000
DTSTAMP:20260424T221059
CREATED:20241121T135334Z
LAST-MODIFIED:20241121T135404Z
UID:10006794-1881397800-1881399600@cortlandfreelibrary.org
SUMMARY:Baby/Toddler Time
DESCRIPTION:Rhymes\, stories\, and songs designed for children from birth to age 2 & their caregivers. Registration is recommended.
URL:https://cortlandfreelibrary.org/event/baby-toddler-time-2/2029-08-14/
LOCATION:Cortland Free Library\, 32 Church Street\, Cortland\, NY\, 13045\, United States
ATTACH;FMTTYPE=image/png:https://cortlandfreelibrary.org/wp-content/uploads/2022/01/1280860803167512425baby-boy-with-teddy-md.png
END:VEVENT
BEGIN:VEVENT
DTSTART;TZID=America/New_York:20290815T160000
DTEND;TZID=America/New_York:20290815T170000
DTSTAMP:20260424T221059
CREATED:20250915T215123Z
LAST-MODIFIED:20250915T223546Z
UID:10008894-1881504000-1881507600@cortlandfreelibrary.org
SUMMARY:*LEGO Club
DESCRIPTION:Come join our LEGO club & have some building fun! Each session we’ll have a challenge & a game. LEGO Club meets on the first & third Wednesday of each month at 4 p.m. Registration is required each month. Please sign up for one day only. Open to ages 4 – 12 yrs.
URL:https://cortlandfreelibrary.org/event/lego-club-58/2029-08-15/
LOCATION:Cortland Free Library\, 32 Church Street\, Cortland\, NY\, 13045\, United States
ATTACH;FMTTYPE=image/png:https://cortlandfreelibrary.org/wp-content/uploads/2024/03/legos.png
END:VEVENT
BEGIN:VEVENT
DTSTART;TZID=America/New_York:20290816T103000
DTEND;TZID=America/New_York:20290816T110000
DTSTAMP:20260424T221059
CREATED:20240614T183249Z
LAST-MODIFIED:20240705T162257Z
UID:10005821-1881570600-1881572400@cortlandfreelibrary.org
SUMMARY:Preschool Story Time
DESCRIPTION:Stories\, songs\, and activities with a different theme each week. All ages are welcome but this program is designed for children ages 3-5 yrs.
URL:https://cortlandfreelibrary.org/event/preschool-story-time-3/2029-08-16/
LOCATION:Cortland Free Library\, 32 Church Street\, Cortland\, NY\, 13045\, United States
ATTACH;FMTTYPE=image/png:https://cortlandfreelibrary.org/wp-content/uploads/2022/01/unnamed.png
END:VEVENT
BEGIN:VEVENT
DTSTART;TZID=UTC:20290816T170000
DTEND;TZID=UTC:20290816T200000
DTSTAMP:20260424T221059
CREATED:20240501T232556Z
LAST-MODIFIED:20240626T214711Z
UID:10006487-1881594000-1881604800@cortlandfreelibrary.org
SUMMARY:Chess Club
DESCRIPTION:An all ages chess club for beginners and experts.  Meets every Thursday at 5 p.m. Beginners will get a lesson on the basics of chess and experts can meet and play.
URL:https://cortlandfreelibrary.org/event/chess-club-2-4/2029-08-16/
LOCATION:Cortland Free Library\, 32 Church Street\, Cortland\, NY\, 13045\, United States
CATEGORIES:Adult Services Program
ATTACH;FMTTYPE=image/png:https://cortlandfreelibrary.org/wp-content/uploads/2022/01/chess-pieces2.png
END:VEVENT
BEGIN:VEVENT
DTSTART;TZID=America/New_York:20290820T130000
DTEND;TZID=America/New_York:20290820T140000
DTSTAMP:20260424T221059
CREATED:20250812T194549Z
LAST-MODIFIED:20250929T160115Z
UID:10008531-1881925200-1881928800@cortlandfreelibrary.org
SUMMARY:*Homeschool Get Ready To Read
DESCRIPTION:Mondays at 1 p.m. A program for emergent readers ages 4 – 7 yrs. & their caregivers.  The program promotes early literacy skills with letter sounds & recognition\, activities & stories.  Each week children will receive a free book & parents will have learned activities to reinforce reading skills at home. Registration is limited & is required.
URL:https://cortlandfreelibrary.org/event/homeschool-get-ready-to-read-49/2029-08-20/
LOCATION:Cortland Free Library\, 32 Church Street\, Cortland\, NY\, 13045\, United States
ATTACH;FMTTYPE=image/jpeg:https://cortlandfreelibrary.org/wp-content/uploads/2022/08/Free-abc-clipart.jpg
END:VEVENT
BEGIN:VEVENT
DTSTART;TZID=America/New_York:20290820T180000
DTEND;TZID=America/New_York:20290820T190000
DTSTAMP:20260424T221059
CREATED:20250813T142205Z
LAST-MODIFIED:20250813T142205Z
UID:10008278-1881943200-1881946800@cortlandfreelibrary.org
SUMMARY:*Ready\, Set\, Read!
DESCRIPTION:Mondays at 6 p.m. A program for emergent readers ages 4 – 7 yrs. & their caregivers.  The program promotes early literacy skills with letter sounds & recognition\, activities & stories.  Each week children will receive a free book & parents will have learned activities to reinforce reading skills at home. Registration is limited & is required.
URL:https://cortlandfreelibrary.org/event/ready-set-read-52/2029-08-20/
LOCATION:Cortland Free Library\, 32 Church Street\, Cortland\, NY\, 13045\, United States
ATTACH;FMTTYPE=image/jpeg:https://cortlandfreelibrary.org/wp-content/uploads/2024/03/Free-abc-clipart.jpg
END:VEVENT
BEGIN:VEVENT
DTSTART;TZID=America/New_York:20290821T103000
DTEND;TZID=America/New_York:20290821T110000
DTSTAMP:20260424T221059
CREATED:20241121T135334Z
LAST-MODIFIED:20241121T135404Z
UID:10006795-1882002600-1882004400@cortlandfreelibrary.org
SUMMARY:Baby/Toddler Time
DESCRIPTION:Rhymes\, stories\, and songs designed for children from birth to age 2 & their caregivers. Registration is recommended.
URL:https://cortlandfreelibrary.org/event/baby-toddler-time-2/2029-08-21/
LOCATION:Cortland Free Library\, 32 Church Street\, Cortland\, NY\, 13045\, United States
ATTACH;FMTTYPE=image/png:https://cortlandfreelibrary.org/wp-content/uploads/2022/01/1280860803167512425baby-boy-with-teddy-md.png
END:VEVENT
BEGIN:VEVENT
DTSTART;TZID=America/New_York:20290823T103000
DTEND;TZID=America/New_York:20290823T110000
DTSTAMP:20260424T221059
CREATED:20240614T183249Z
LAST-MODIFIED:20240705T162257Z
UID:10006469-1882175400-1882177200@cortlandfreelibrary.org
SUMMARY:Preschool Story Time
DESCRIPTION:Stories\, songs\, and activities with a different theme each week. All ages are welcome but this program is designed for children ages 3-5 yrs.
URL:https://cortlandfreelibrary.org/event/preschool-story-time-3/2029-08-23/
LOCATION:Cortland Free Library\, 32 Church Street\, Cortland\, NY\, 13045\, United States
ATTACH;FMTTYPE=image/png:https://cortlandfreelibrary.org/wp-content/uploads/2022/01/unnamed.png
END:VEVENT
BEGIN:VEVENT
DTSTART;TZID=UTC:20290823T170000
DTEND;TZID=UTC:20290823T200000
DTSTAMP:20260424T221059
CREATED:20240501T232556Z
LAST-MODIFIED:20240626T214711Z
UID:10006488-1882198800-1882209600@cortlandfreelibrary.org
SUMMARY:Chess Club
DESCRIPTION:An all ages chess club for beginners and experts.  Meets every Thursday at 5 p.m. Beginners will get a lesson on the basics of chess and experts can meet and play.
URL:https://cortlandfreelibrary.org/event/chess-club-2-4/2029-08-23/
LOCATION:Cortland Free Library\, 32 Church Street\, Cortland\, NY\, 13045\, United States
CATEGORIES:Adult Services Program
ATTACH;FMTTYPE=image/png:https://cortlandfreelibrary.org/wp-content/uploads/2022/01/chess-pieces2.png
END:VEVENT
BEGIN:VEVENT
DTSTART;TZID=America/New_York:20290827T130000
DTEND;TZID=America/New_York:20290827T140000
DTSTAMP:20260424T221059
CREATED:20250812T194549Z
LAST-MODIFIED:20250929T160115Z
UID:10008532-1882530000-1882533600@cortlandfreelibrary.org
SUMMARY:*Homeschool Get Ready To Read
DESCRIPTION:Mondays at 1 p.m. A program for emergent readers ages 4 – 7 yrs. & their caregivers.  The program promotes early literacy skills with letter sounds & recognition\, activities & stories.  Each week children will receive a free book & parents will have learned activities to reinforce reading skills at home. Registration is limited & is required.
URL:https://cortlandfreelibrary.org/event/homeschool-get-ready-to-read-49/2029-08-27/
LOCATION:Cortland Free Library\, 32 Church Street\, Cortland\, NY\, 13045\, United States
ATTACH;FMTTYPE=image/jpeg:https://cortlandfreelibrary.org/wp-content/uploads/2022/08/Free-abc-clipart.jpg
END:VEVENT
BEGIN:VEVENT
DTSTART;TZID=America/New_York:20290827T180000
DTEND;TZID=America/New_York:20290827T190000
DTSTAMP:20260424T221059
CREATED:20250813T142205Z
LAST-MODIFIED:20250813T142205Z
UID:10008279-1882548000-1882551600@cortlandfreelibrary.org
SUMMARY:*Ready\, Set\, Read!
DESCRIPTION:Mondays at 6 p.m. A program for emergent readers ages 4 – 7 yrs. & their caregivers.  The program promotes early literacy skills with letter sounds & recognition\, activities & stories.  Each week children will receive a free book & parents will have learned activities to reinforce reading skills at home. Registration is limited & is required.
URL:https://cortlandfreelibrary.org/event/ready-set-read-52/2029-08-27/
LOCATION:Cortland Free Library\, 32 Church Street\, Cortland\, NY\, 13045\, United States
ATTACH;FMTTYPE=image/jpeg:https://cortlandfreelibrary.org/wp-content/uploads/2024/03/Free-abc-clipart.jpg
END:VEVENT
END:VCALENDAR