BEGIN:VCALENDAR
VERSION:2.0
PRODID:-//Cortland Free Library - ECPv6.15.17.1//NONSGML v1.0//EN
CALSCALE:GREGORIAN
METHOD:PUBLISH
X-ORIGINAL-URL:https://cortlandfreelibrary.org
X-WR-CALDESC:Events for Cortland Free Library
REFRESH-INTERVAL;VALUE=DURATION:PT1H
X-Robots-Tag:noindex
X-PUBLISHED-TTL:PT1H
BEGIN:VTIMEZONE
TZID:America/New_York
BEGIN:DAYLIGHT
TZOFFSETFROM:-0500
TZOFFSETTO:-0400
TZNAME:EDT
DTSTART:20250309T070000
END:DAYLIGHT
BEGIN:STANDARD
TZOFFSETFROM:-0400
TZOFFSETTO:-0500
TZNAME:EST
DTSTART:20251102T060000
END:STANDARD
BEGIN:DAYLIGHT
TZOFFSETFROM:-0500
TZOFFSETTO:-0400
TZNAME:EDT
DTSTART:20260308T070000
END:DAYLIGHT
BEGIN:STANDARD
TZOFFSETFROM:-0400
TZOFFSETTO:-0500
TZNAME:EST
DTSTART:20261101T060000
END:STANDARD
BEGIN:DAYLIGHT
TZOFFSETFROM:-0500
TZOFFSETTO:-0400
TZNAME:EDT
DTSTART:20270314T070000
END:DAYLIGHT
BEGIN:STANDARD
TZOFFSETFROM:-0400
TZOFFSETTO:-0500
TZNAME:EST
DTSTART:20271107T060000
END:STANDARD
END:VTIMEZONE
BEGIN:VTIMEZONE
TZID:UTC
BEGIN:STANDARD
TZOFFSETFROM:+0000
TZOFFSETTO:+0000
TZNAME:UTC
DTSTART:20250101T000000
END:STANDARD
END:VTIMEZONE
BEGIN:VEVENT
DTSTART;TZID=America/New_York:20260504T130000
DTEND;TZID=America/New_York:20260504T140000
DTSTAMP:20260420T164319
CREATED:20250812T194549Z
LAST-MODIFIED:20250929T160115Z
UID:10008359-1777899600-1777903200@cortlandfreelibrary.org
SUMMARY:*Homeschool Get Ready To Read
DESCRIPTION:Mondays at 1 p.m. A program for emergent readers ages 4 – 7 yrs. & their caregivers.  The program promotes early literacy skills with letter sounds & recognition\, activities & stories.  Each week children will receive a free book & parents will have learned activities to reinforce reading skills at home. Registration is limited & is required.
URL:https://cortlandfreelibrary.org/event/homeschool-get-ready-to-read-49/2026-05-04/
LOCATION:Cortland Free Library\, 32 Church Street\, Cortland\, NY\, 13045\, United States
ATTACH;FMTTYPE=image/jpeg:https://cortlandfreelibrary.org/wp-content/uploads/2022/08/Free-abc-clipart.jpg
END:VEVENT
BEGIN:VEVENT
DTSTART;TZID=America/New_York:20260504T180000
DTEND;TZID=America/New_York:20260504T190000
DTSTAMP:20260420T164319
CREATED:20250813T142205Z
LAST-MODIFIED:20250813T142205Z
UID:10008106-1777917600-1777921200@cortlandfreelibrary.org
SUMMARY:*Ready\, Set\, Read!
DESCRIPTION:Mondays at 6 p.m. A program for emergent readers ages 4 – 7 yrs. & their caregivers.  The program promotes early literacy skills with letter sounds & recognition\, activities & stories.  Each week children will receive a free book & parents will have learned activities to reinforce reading skills at home. Registration is limited & is required.
URL:https://cortlandfreelibrary.org/event/ready-set-read-52/2026-05-04/
LOCATION:Cortland Free Library\, 32 Church Street\, Cortland\, NY\, 13045\, United States
ATTACH;FMTTYPE=image/jpeg:https://cortlandfreelibrary.org/wp-content/uploads/2024/03/Free-abc-clipart.jpg
END:VEVENT
BEGIN:VEVENT
DTSTART;TZID=America/New_York:20260505T103000
DTEND;TZID=America/New_York:20260505T110000
DTSTAMP:20260420T164319
CREATED:20241121T135334Z
LAST-MODIFIED:20241121T135404Z
UID:10006623-1777977000-1777978800@cortlandfreelibrary.org
SUMMARY:Baby/Toddler Time
DESCRIPTION:Rhymes\, stories\, and songs designed for children from birth to age 2 & their caregivers. Registration is recommended.
URL:https://cortlandfreelibrary.org/event/baby-toddler-time-2/2026-05-05/
LOCATION:Cortland Free Library\, 32 Church Street\, Cortland\, NY\, 13045\, United States
ATTACH;FMTTYPE=image/png:https://cortlandfreelibrary.org/wp-content/uploads/2022/01/1280860803167512425baby-boy-with-teddy-md.png
END:VEVENT
BEGIN:VEVENT
DTSTART;TZID=America/New_York:20260506T160000
DTEND;TZID=America/New_York:20260506T170000
DTSTAMP:20260420T164319
CREATED:20250915T214943Z
LAST-MODIFIED:20250915T223229Z
UID:10008795-1778083200-1778086800@cortlandfreelibrary.org
SUMMARY:*LEGO Club
DESCRIPTION:Come join our LEGO club & have some building fun! Each session we’ll have a challenge & a game. LEGO Club meets on the first & third Wednesday of each month at 4 p.m. Registration is required each month. Please sign up for one day only. Open to ages 4 – 12 yrs.
URL:https://cortlandfreelibrary.org/event/lego-club-57/2026-05-06/
LOCATION:Cortland Free Library\, 32 Church Street\, Cortland\, NY\, 13045\, United States
ATTACH;FMTTYPE=image/png:https://cortlandfreelibrary.org/wp-content/uploads/2024/03/legos.png
END:VEVENT
BEGIN:VEVENT
DTSTART;TZID=America/New_York:20260506T170000
DTEND;TZID=America/New_York:20260506T180000
DTSTAMP:20260420T164319
CREATED:20260420T185621Z
LAST-MODIFIED:20260420T185621Z
UID:10009465-1778086800-1778090400@cortlandfreelibrary.org
SUMMARY:Book Club
DESCRIPTION:Join us to discuss The Stolen Life of Colette Marceau by Kristin Harmel.  New members are always welcome! Please contact the library for more information.  Ask for a copy of the book at either circulation desk. Our next selection\, to be determined\, will be discussed on June 3\, 2026.
URL:https://cortlandfreelibrary.org/event/book-club-50/
LOCATION:Cortland Free Library\, 32 Church Street\, Cortland\, NY\, 13045\, United States
END:VEVENT
BEGIN:VEVENT
DTSTART;TZID=America/New_York:20260507T103000
DTEND;TZID=America/New_York:20260507T110000
DTSTAMP:20260420T164319
CREATED:20240614T183249Z
LAST-MODIFIED:20240705T162257Z
UID:10005563-1778149800-1778151600@cortlandfreelibrary.org
SUMMARY:Preschool Story Time
DESCRIPTION:Stories\, songs\, and activities with a different theme each week. All ages are welcome but this program is designed for children ages 3-5 yrs.
URL:https://cortlandfreelibrary.org/event/preschool-story-time-3/2026-05-07/
LOCATION:Cortland Free Library\, 32 Church Street\, Cortland\, NY\, 13045\, United States
ATTACH;FMTTYPE=image/png:https://cortlandfreelibrary.org/wp-content/uploads/2022/01/unnamed.png
END:VEVENT
BEGIN:VEVENT
DTSTART;TZID=America/New_York:20260507T160000
DTEND;TZID=America/New_York:20260507T170000
DTSTAMP:20260420T164319
CREATED:20240326T200906Z
LAST-MODIFIED:20250915T223325Z
UID:10004898-1778169600-1778173200@cortlandfreelibrary.org
SUMMARY:*Teen Advisory Board
DESCRIPTION:Play some games & be a part of planning future teen programs! Open to ages 12 -18 yrs. Registration is required.
URL:https://cortlandfreelibrary.org/event/teen-advisory-board-9/2026-05-07/
LOCATION:Cortland Free Library\, 32 Church Street\, Cortland\, NY\, 13045\, United States
ATTACH;FMTTYPE=image/jpeg:https://cortlandfreelibrary.org/wp-content/uploads/2024/03/tab.jpg
END:VEVENT
BEGIN:VEVENT
DTSTART;TZID=UTC:20260507T170000
DTEND;TZID=UTC:20260507T200000
DTSTAMP:20260420T164319
CREATED:20240501T232556Z
LAST-MODIFIED:20240626T214711Z
UID:10005098-1778173200-1778184000@cortlandfreelibrary.org
SUMMARY:Chess Club
DESCRIPTION:An all ages chess club for beginners and experts.  Meets every Thursday at 5 p.m. Beginners will get a lesson on the basics of chess and experts can meet and play.
URL:https://cortlandfreelibrary.org/event/chess-club-2-4/2026-05-07/
LOCATION:Cortland Free Library\, 32 Church Street\, Cortland\, NY\, 13045\, United States
CATEGORIES:Adult Services Program
ATTACH;FMTTYPE=image/png:https://cortlandfreelibrary.org/wp-content/uploads/2022/01/chess-pieces2.png
END:VEVENT
BEGIN:VEVENT
DTSTART;TZID=America/New_York:20260511T190000
DTEND;TZID=America/New_York:20260511T193000
DTSTAMP:20260420T164319
CREATED:20260416T171903Z
LAST-MODIFIED:20260416T171903Z
UID:10009452-1778526000-1778527800@cortlandfreelibrary.org
SUMMARY:*Books Before Bed
DESCRIPTION:A special pajama story time.  Be sure to wear your pajamas and bring a favorite stuffed animal to leave for a sleepover at the library. All ages and families are welcome but this program is designed for children ages 3 – 5 yrs. Registration is required.
URL:https://cortlandfreelibrary.org/event/books-before-bed-32/
LOCATION:Cortland Free Library\, 32 Church Street\, Cortland\, NY\, 13045\, United States
ATTACH;FMTTYPE=image/png:https://cortlandfreelibrary.org/wp-content/uploads/2024/03/Books-before-bed.png
END:VEVENT
BEGIN:VEVENT
DTSTART;TZID=America/New_York:20260512T103000
DTEND;TZID=America/New_York:20260512T110000
DTSTAMP:20260420T164319
CREATED:20241121T135334Z
LAST-MODIFIED:20241121T135404Z
UID:10006624-1778581800-1778583600@cortlandfreelibrary.org
SUMMARY:Baby/Toddler Time
DESCRIPTION:Rhymes\, stories\, and songs designed for children from birth to age 2 & their caregivers. Registration is recommended.
URL:https://cortlandfreelibrary.org/event/baby-toddler-time-2/2026-05-12/
LOCATION:Cortland Free Library\, 32 Church Street\, Cortland\, NY\, 13045\, United States
ATTACH;FMTTYPE=image/png:https://cortlandfreelibrary.org/wp-content/uploads/2022/01/1280860803167512425baby-boy-with-teddy-md.png
END:VEVENT
BEGIN:VEVENT
DTSTART;TZID=America/New_York:20260512T120000
DTEND;TZID=America/New_York:20260512T160000
DTSTAMP:20260420T164319
CREATED:20260420T190007Z
LAST-MODIFIED:20260420T190007Z
UID:10009467-1778587200-1778601600@cortlandfreelibrary.org
SUMMARY:Libby Who?
DESCRIPTION:Do you have questions about Libby\, your portal to e-books\, e-audiobooks and e-magazines using your library card? Bring your device to get hands on experience to Libby\, our digital reading app! \nStop in anytime between 12 – 4 p.m. today to learn how to access the Libby app.  If you already have the app learn how to search\, check-out or place a hold on an item!
URL:https://cortlandfreelibrary.org/event/libby-who-2/
LOCATION:Cortland Free Library\, 32 Church Street\, Cortland\, NY\, 13045\, United States
END:VEVENT
BEGIN:VEVENT
DTSTART;TZID=America/New_York:20260514T103000
DTEND;TZID=America/New_York:20260514T110000
DTSTAMP:20260420T164319
CREATED:20240614T183249Z
LAST-MODIFIED:20240705T162257Z
UID:10005564-1778754600-1778756400@cortlandfreelibrary.org
SUMMARY:Preschool Story Time
DESCRIPTION:Stories\, songs\, and activities with a different theme each week. All ages are welcome but this program is designed for children ages 3-5 yrs.
URL:https://cortlandfreelibrary.org/event/preschool-story-time-3/2026-05-14/
LOCATION:Cortland Free Library\, 32 Church Street\, Cortland\, NY\, 13045\, United States
ATTACH;FMTTYPE=image/png:https://cortlandfreelibrary.org/wp-content/uploads/2022/01/unnamed.png
END:VEVENT
BEGIN:VEVENT
DTSTART;TZID=UTC:20260514T170000
DTEND;TZID=UTC:20260514T200000
DTSTAMP:20260420T164319
CREATED:20240501T232556Z
LAST-MODIFIED:20240626T214711Z
UID:10005099-1778778000-1778788800@cortlandfreelibrary.org
SUMMARY:Chess Club
DESCRIPTION:An all ages chess club for beginners and experts.  Meets every Thursday at 5 p.m. Beginners will get a lesson on the basics of chess and experts can meet and play.
URL:https://cortlandfreelibrary.org/event/chess-club-2-4/2026-05-14/
LOCATION:Cortland Free Library\, 32 Church Street\, Cortland\, NY\, 13045\, United States
CATEGORIES:Adult Services Program
ATTACH;FMTTYPE=image/png:https://cortlandfreelibrary.org/wp-content/uploads/2022/01/chess-pieces2.png
END:VEVENT
BEGIN:VEVENT
DTSTART;TZID=America/New_York:20260514T183000
DTEND;TZID=America/New_York:20260514T193000
DTSTAMP:20260420T164319
CREATED:20260420T185814Z
LAST-MODIFIED:20260420T185814Z
UID:10009466-1778783400-1778787000@cortlandfreelibrary.org
SUMMARY:History Buffs' Book Club
DESCRIPTION:Do you enjoy history? Join us at the library to discuss Monarchs.   We choose the topic\, You choose the book! Contact the library with any questions!
URL:https://cortlandfreelibrary.org/event/history-buffs-book-club-50/
LOCATION:Cortland Free Library\, 32 Church Street\, Cortland\, NY\, 13045\, United States
END:VEVENT
BEGIN:VEVENT
DTSTART;TZID=America/New_York:20260515T130000
DTEND;TZID=America/New_York:20260515T140000
DTSTAMP:20260420T164319
CREATED:20260420T190911Z
LAST-MODIFIED:20260420T190911Z
UID:10009469-1778850000-1778853600@cortlandfreelibrary.org
SUMMARY:Game On!
DESCRIPTION:Join us for some board game fun! Learn a new game & play some old favorites. Enjoy some friendly competition. No experience is needed – just come ready to have fun! Open to ages 12 and up. Registration is requested.
URL:https://cortlandfreelibrary.org/event/game-on-21/
LOCATION:Cortland Free Library\, 32 Church Street\, Cortland\, NY\, 13045\, United States
ATTACH;FMTTYPE=image/png:https://cortlandfreelibrary.org/wp-content/uploads/2023/03/Game-on.png
END:VEVENT
BEGIN:VEVENT
DTSTART;TZID=America/New_York:20260518T130000
DTEND;TZID=America/New_York:20260518T140000
DTSTAMP:20260420T164319
CREATED:20250812T194549Z
LAST-MODIFIED:20250929T160115Z
UID:10008361-1779109200-1779112800@cortlandfreelibrary.org
SUMMARY:*Homeschool Get Ready To Read
DESCRIPTION:Mondays at 1 p.m. A program for emergent readers ages 4 – 7 yrs. & their caregivers.  The program promotes early literacy skills with letter sounds & recognition\, activities & stories.  Each week children will receive a free book & parents will have learned activities to reinforce reading skills at home. Registration is limited & is required.
URL:https://cortlandfreelibrary.org/event/homeschool-get-ready-to-read-49/2026-05-18/
LOCATION:Cortland Free Library\, 32 Church Street\, Cortland\, NY\, 13045\, United States
ATTACH;FMTTYPE=image/jpeg:https://cortlandfreelibrary.org/wp-content/uploads/2022/08/Free-abc-clipart.jpg
END:VEVENT
BEGIN:VEVENT
DTSTART;TZID=America/New_York:20260518T180000
DTEND;TZID=America/New_York:20260518T190000
DTSTAMP:20260420T164319
CREATED:20250813T142205Z
LAST-MODIFIED:20250813T142205Z
UID:10008108-1779127200-1779130800@cortlandfreelibrary.org
SUMMARY:*Ready\, Set\, Read!
DESCRIPTION:Mondays at 6 p.m. A program for emergent readers ages 4 – 7 yrs. & their caregivers.  The program promotes early literacy skills with letter sounds & recognition\, activities & stories.  Each week children will receive a free book & parents will have learned activities to reinforce reading skills at home. Registration is limited & is required.
URL:https://cortlandfreelibrary.org/event/ready-set-read-52/2026-05-18/
LOCATION:Cortland Free Library\, 32 Church Street\, Cortland\, NY\, 13045\, United States
ATTACH;FMTTYPE=image/jpeg:https://cortlandfreelibrary.org/wp-content/uploads/2024/03/Free-abc-clipart.jpg
END:VEVENT
BEGIN:VEVENT
DTSTART;TZID=America/New_York:20260518T180000
DTEND;TZID=America/New_York:20260518T190000
DTSTAMP:20260420T164319
CREATED:20260320T151253Z
LAST-MODIFIED:20260320T151403Z
UID:10009426-1779127200-1779130800@cortlandfreelibrary.org
SUMMARY:Friends of Cortland Free Library
DESCRIPTION:Help us write the next chapter of the Friends of Cortland Free Library! \nJoin us for an informational meeting! \nIf you’ve ever thought\, “I’d love to help the library more!”  this is your opportunity. \nFind out more information and fill out our Google Form at here!
URL:https://cortlandfreelibrary.org/event/friends-of-cortland-free-library/
LOCATION:Cortland Free Library\, 32 Church Street\, Cortland\, NY\, 13045\, United States
ATTACH;FMTTYPE=image/png:https://cortlandfreelibrary.org/wp-content/uploads/2026/03/Friends-of-CFL-on-white1-e1773618802668.png
END:VEVENT
BEGIN:VEVENT
DTSTART;TZID=America/New_York:20260519T103000
DTEND;TZID=America/New_York:20260519T110000
DTSTAMP:20260420T164319
CREATED:20241121T135334Z
LAST-MODIFIED:20241121T135404Z
UID:10006625-1779186600-1779188400@cortlandfreelibrary.org
SUMMARY:Baby/Toddler Time
DESCRIPTION:Rhymes\, stories\, and songs designed for children from birth to age 2 & their caregivers. Registration is recommended.
URL:https://cortlandfreelibrary.org/event/baby-toddler-time-2/2026-05-19/
LOCATION:Cortland Free Library\, 32 Church Street\, Cortland\, NY\, 13045\, United States
ATTACH;FMTTYPE=image/png:https://cortlandfreelibrary.org/wp-content/uploads/2022/01/1280860803167512425baby-boy-with-teddy-md.png
END:VEVENT
BEGIN:VEVENT
DTSTART;TZID=America/New_York:20260519T160000
DTEND;TZID=America/New_York:20260519T170000
DTSTAMP:20260420T164319
CREATED:20260416T172145Z
LAST-MODIFIED:20260416T172145Z
UID:10009453-1779206400-1779210000@cortlandfreelibrary.org
SUMMARY:*Barnyard Bonanza: Pigs!
DESCRIPTION:Join our special guest\, 2025 Cortland County Fair Queen Court\, as they share stories\, craft\, and activities all about PIGS. This program is geared towards ages 4 – 8.  Registration is required.
URL:https://cortlandfreelibrary.org/event/barnyard-bonanza-pigs/
LOCATION:Cortland Free Library\, 32 Church Street\, Cortland\, NY\, 13045\, United States
ATTACH;FMTTYPE=image/png:https://cortlandfreelibrary.org/wp-content/uploads/2025/03/pig-clipart-lg.png
END:VEVENT
BEGIN:VEVENT
DTSTART;TZID=America/New_York:20260520T160000
DTEND;TZID=America/New_York:20260520T170000
DTSTAMP:20260420T164319
CREATED:20250915T215123Z
LAST-MODIFIED:20250915T223546Z
UID:10008855-1779292800-1779296400@cortlandfreelibrary.org
SUMMARY:*LEGO Club
DESCRIPTION:Come join our LEGO club & have some building fun! Each session we’ll have a challenge & a game. LEGO Club meets on the first & third Wednesday of each month at 4 p.m. Registration is required each month. Please sign up for one day only. Open to ages 4 – 12 yrs.
URL:https://cortlandfreelibrary.org/event/lego-club-58/2026-05-20/
LOCATION:Cortland Free Library\, 32 Church Street\, Cortland\, NY\, 13045\, United States
ATTACH;FMTTYPE=image/png:https://cortlandfreelibrary.org/wp-content/uploads/2024/03/legos.png
END:VEVENT
BEGIN:VEVENT
DTSTART;TZID=America/New_York:20260520T183000
DTEND;TZID=America/New_York:20260520T193000
DTSTAMP:20260420T164319
CREATED:20260420T190423Z
LAST-MODIFIED:20260420T190423Z
UID:10009468-1779301800-1779305400@cortlandfreelibrary.org
SUMMARY:Cortland Free Library Board of Trustees
DESCRIPTION:Members of the public who wish to speak during the public comment portion of the meeting are encouraged to notify the library in advance and must also sign in at the meeting. To notify the library\, please email boardpresident@gmail.com.
URL:https://cortlandfreelibrary.org/event/cortland-free-library-board-of-trustees-8/
LOCATION:Cortland Free Library\, 32 Church Street\, Cortland\, NY\, 13045\, United States
ATTACH;FMTTYPE=image/png:https://cortlandfreelibrary.org/wp-content/uploads/2021/03/cropped-Logo-500-x-500-px-e1614961506799-1.png
END:VEVENT
BEGIN:VEVENT
DTSTART;TZID=America/New_York:20260521T103000
DTEND;TZID=America/New_York:20260521T110000
DTSTAMP:20260420T164319
CREATED:20240614T183249Z
LAST-MODIFIED:20240705T162257Z
UID:10005565-1779359400-1779361200@cortlandfreelibrary.org
SUMMARY:Preschool Story Time
DESCRIPTION:Stories\, songs\, and activities with a different theme each week. All ages are welcome but this program is designed for children ages 3-5 yrs.
URL:https://cortlandfreelibrary.org/event/preschool-story-time-3/2026-05-21/
LOCATION:Cortland Free Library\, 32 Church Street\, Cortland\, NY\, 13045\, United States
ATTACH;FMTTYPE=image/png:https://cortlandfreelibrary.org/wp-content/uploads/2022/01/unnamed.png
END:VEVENT
BEGIN:VEVENT
DTSTART;TZID=America/New_York:20260521T160000
DTEND;TZID=America/New_York:20260521T170000
DTSTAMP:20260420T164319
CREATED:20260416T172330Z
LAST-MODIFIED:20260416T173825Z
UID:10009454-1779379200-1779382800@cortlandfreelibrary.org
SUMMARY:*Teen Time
DESCRIPTION:Join us for games\, surprise craft and pizza. Open to ages 12 – 18 yrs. Registration is required.
URL:https://cortlandfreelibrary.org/event/teen-time-26/
LOCATION:Cortland Free Library\, 32 Church Street\, Cortland\, NY\, 13045\, United States
ATTACH;FMTTYPE=image/jpeg:https://cortlandfreelibrary.org/wp-content/uploads/2024/04/pizza-clipart.jpg
END:VEVENT
BEGIN:VEVENT
DTSTART;TZID=UTC:20260521T170000
DTEND;TZID=UTC:20260521T200000
DTSTAMP:20260420T164319
CREATED:20240501T232556Z
LAST-MODIFIED:20240626T214711Z
UID:10005100-1779382800-1779393600@cortlandfreelibrary.org
SUMMARY:Chess Club
DESCRIPTION:An all ages chess club for beginners and experts.  Meets every Thursday at 5 p.m. Beginners will get a lesson on the basics of chess and experts can meet and play.
URL:https://cortlandfreelibrary.org/event/chess-club-2-4/2026-05-21/
LOCATION:Cortland Free Library\, 32 Church Street\, Cortland\, NY\, 13045\, United States
CATEGORIES:Adult Services Program
ATTACH;FMTTYPE=image/png:https://cortlandfreelibrary.org/wp-content/uploads/2022/01/chess-pieces2.png
END:VEVENT
BEGIN:VEVENT
DTSTART;VALUE=DATE:20260523
DTEND;VALUE=DATE:20260524
DTSTAMP:20260420T164319
CREATED:20260416T173135Z
LAST-MODIFIED:20260416T173920Z
UID:10009456-1779494400-1779580799@cortlandfreelibrary.org
SUMMARY:CLOSED for Memorial Day
DESCRIPTION:Cortland Free library will be closed today\, Monday\, May 25 in observance of Memorial Day.
URL:https://cortlandfreelibrary.org/event/closed-for-memorial-day-4/
LOCATION:NY
ATTACH;FMTTYPE=image/jpeg:https://cortlandfreelibrary.org/wp-content/uploads/2026/04/happy-memorial-day-clipart-73yaa.jpg
END:VEVENT
BEGIN:VEVENT
DTSTART;VALUE=DATE:20260525
DTEND;VALUE=DATE:20260526
DTSTAMP:20260420T164319
CREATED:20251124T144945Z
LAST-MODIFIED:20260416T173458Z
UID:10009165-1779667200-1779753599@cortlandfreelibrary.org
SUMMARY:CLOSED for Memorial Day
DESCRIPTION:Cortland Free library will be closed today\, Monday\, May 25 in observance of Memorial Day.
URL:https://cortlandfreelibrary.org/event/closed-for-memorial-day-3/
LOCATION:Cortland Free Library\, 32 Church Street\, Cortland\, NY\, 13045\, United States
ATTACH;FMTTYPE=image/jpeg:https://cortlandfreelibrary.org/wp-content/uploads/2026/04/happy-memorial-day-clipart-73yaa.jpg
END:VEVENT
BEGIN:VEVENT
DTSTART;TZID=America/New_York:20260526T103000
DTEND;TZID=America/New_York:20260526T110000
DTSTAMP:20260420T164319
CREATED:20241121T135334Z
LAST-MODIFIED:20241121T135404Z
UID:10006626-1779791400-1779793200@cortlandfreelibrary.org
SUMMARY:Baby/Toddler Time
DESCRIPTION:Rhymes\, stories\, and songs designed for children from birth to age 2 & their caregivers. Registration is recommended.
URL:https://cortlandfreelibrary.org/event/baby-toddler-time-2/2026-05-26/
LOCATION:Cortland Free Library\, 32 Church Street\, Cortland\, NY\, 13045\, United States
ATTACH;FMTTYPE=image/png:https://cortlandfreelibrary.org/wp-content/uploads/2022/01/1280860803167512425baby-boy-with-teddy-md.png
END:VEVENT
BEGIN:VEVENT
DTSTART;TZID=UTC:20260526T140000
DTEND;TZID=UTC:20260526T150000
DTSTAMP:20260420T164319
CREATED:20230622T184124Z
LAST-MODIFIED:20240130T180525Z
UID:10000795-1779804000-1779807600@cortlandfreelibrary.org
SUMMARY:Craft Club
DESCRIPTION:Come get crafty with us! Open to ages 12 and up.  Registration is required.
URL:https://cortlandfreelibrary.org/event/craft-club-3-2/2026-05-26/
LOCATION:Cortland Free Library\, 32 Church Street\, Cortland\, NY\, 13045\, United States
CATEGORIES:Adult Services Program
ATTACH;FMTTYPE=image/png:https://cortlandfreelibrary.org/wp-content/uploads/2022/01/summer21.png
END:VEVENT
BEGIN:VEVENT
DTSTART;TZID=America/New_York:20260526T160000
DTEND;TZID=America/New_York:20260526T170000
DTSTAMP:20260420T164319
CREATED:20250813T142614Z
LAST-MODIFIED:20250826T211705Z
UID:10008653-1779811200-1779814800@cortlandfreelibrary.org
SUMMARY:*Crafty Kids
DESCRIPTION:We will meet to make a different craft each month. Meets monthly on the last Tuesday at 4 p.m. Open to ages 6 – 12 yrs. Registration is limited & is required each month.
URL:https://cortlandfreelibrary.org/event/crafty-kids-20/2026-05-26/
LOCATION:Cortland Free Library\, 32 Church Street\, Cortland\, NY\, 13045\, United States
ATTACH;FMTTYPE=image/png:https://cortlandfreelibrary.org/wp-content/uploads/2024/03/crafty-kids.png
END:VEVENT
END:VCALENDAR