BEGIN:VCALENDAR
VERSION:2.0
PRODID:-//Cortland Free Library - ECPv6.15.17.1//NONSGML v1.0//EN
CALSCALE:GREGORIAN
METHOD:PUBLISH
X-WR-CALNAME:Cortland Free Library
X-ORIGINAL-URL:https://cortlandfreelibrary.org
X-WR-CALDESC:Events for Cortland Free Library
REFRESH-INTERVAL;VALUE=DURATION:PT1H
X-Robots-Tag:noindex
X-PUBLISHED-TTL:PT1H
BEGIN:VTIMEZONE
TZID:America/New_York
BEGIN:DAYLIGHT
TZOFFSETFROM:-0500
TZOFFSETTO:-0400
TZNAME:EDT
DTSTART:20240310T070000
END:DAYLIGHT
BEGIN:STANDARD
TZOFFSETFROM:-0400
TZOFFSETTO:-0500
TZNAME:EST
DTSTART:20241103T060000
END:STANDARD
BEGIN:DAYLIGHT
TZOFFSETFROM:-0500
TZOFFSETTO:-0400
TZNAME:EDT
DTSTART:20250309T070000
END:DAYLIGHT
BEGIN:STANDARD
TZOFFSETFROM:-0400
TZOFFSETTO:-0500
TZNAME:EST
DTSTART:20251102T060000
END:STANDARD
BEGIN:DAYLIGHT
TZOFFSETFROM:-0500
TZOFFSETTO:-0400
TZNAME:EDT
DTSTART:20260308T070000
END:DAYLIGHT
BEGIN:STANDARD
TZOFFSETFROM:-0400
TZOFFSETTO:-0500
TZNAME:EST
DTSTART:20261101T060000
END:STANDARD
END:VTIMEZONE
BEGIN:VTIMEZONE
TZID:UTC
BEGIN:STANDARD
TZOFFSETFROM:+0000
TZOFFSETTO:+0000
TZNAME:UTC
DTSTART:20240101T000000
END:STANDARD
END:VTIMEZONE
BEGIN:VEVENT
DTSTART;TZID=America/New_York:20250526T093000
DTEND;TZID=America/New_York:20250526T200000
DTSTAMP:20260421T112716
CREATED:20250428T193112Z
LAST-MODIFIED:20250428T193112Z
UID:10007703-1748251800-1748289600@cortlandfreelibrary.org
SUMMARY:Closed for Memorial Day
DESCRIPTION:Cortland Free library will be closed today\, Monday\, May 26 in observance of Memorial Day.
URL:https://cortlandfreelibrary.org/event/closed-for-memorial-day-2/
LOCATION:Cortland Free Library\, 32 Church Street\, Cortland\, NY\, 13045\, United States
ATTACH;FMTTYPE=image/png:https://cortlandfreelibrary.org/wp-content/uploads/2025/04/closed-for-memorial-day.png
END:VEVENT
BEGIN:VEVENT
DTSTART;TZID=America/New_York:20250527T103000
DTEND;TZID=America/New_York:20250527T110000
DTSTAMP:20260421T112716
CREATED:20241121T135334Z
LAST-MODIFIED:20241121T135404Z
UID:10006574-1748341800-1748343600@cortlandfreelibrary.org
SUMMARY:Baby/Toddler Time
DESCRIPTION:Rhymes\, stories\, and songs designed for children from birth to age 2 & their caregivers. Registration is recommended.
URL:https://cortlandfreelibrary.org/event/baby-toddler-time-2/2025-05-27/
LOCATION:Cortland Free Library\, 32 Church Street\, Cortland\, NY\, 13045\, United States
ATTACH;FMTTYPE=image/png:https://cortlandfreelibrary.org/wp-content/uploads/2022/01/1280860803167512425baby-boy-with-teddy-md.png
END:VEVENT
BEGIN:VEVENT
DTSTART;TZID=UTC:20250527T140000
DTEND;TZID=UTC:20250527T150000
DTSTAMP:20260421T112716
CREATED:20230622T184124Z
LAST-MODIFIED:20240130T180525Z
UID:10000783-1748354400-1748358000@cortlandfreelibrary.org
SUMMARY:Craft Club
DESCRIPTION:Come get crafty with us! Open to ages 12 and up.  Registration is required.
URL:https://cortlandfreelibrary.org/event/craft-club-3-2/2025-05-27/
LOCATION:Cortland Free Library\, 32 Church Street\, Cortland\, NY\, 13045\, United States
CATEGORIES:Adult Services Program
ATTACH;FMTTYPE=image/png:https://cortlandfreelibrary.org/wp-content/uploads/2022/01/summer21.png
END:VEVENT
BEGIN:VEVENT
DTSTART;TZID=America/New_York:20250527T160000
DTEND;TZID=America/New_York:20250527T170000
DTSTAMP:20260421T112716
CREATED:20250418T181353Z
LAST-MODIFIED:20250418T181353Z
UID:10007679-1748361600-1748365200@cortlandfreelibrary.org
SUMMARY:Crafty Kids
DESCRIPTION:We will meet to make a different craft each month. Meets monthly on the last Tuesday at 4 p.m. Open to ages 6 – 12 yrs. Registration is limited & is required each month.
URL:https://cortlandfreelibrary.org/event/crafty-kids-18/
LOCATION:Cortland Free Library\, 32 Church Street\, Cortland\, NY\, 13045\, United States
ATTACH;FMTTYPE=image/png:https://cortlandfreelibrary.org/wp-content/uploads/2024/03/crafty-kids.png
END:VEVENT
BEGIN:VEVENT
DTSTART;TZID=America/New_York:20250529T103000
DTEND;TZID=America/New_York:20250529T110000
DTSTAMP:20260421T112716
CREATED:20240614T183249Z
LAST-MODIFIED:20240705T162257Z
UID:10005514-1748514600-1748516400@cortlandfreelibrary.org
SUMMARY:Preschool Story Time
DESCRIPTION:Stories\, songs\, and activities with a different theme each week. All ages are welcome but this program is designed for children ages 3-5 yrs.
URL:https://cortlandfreelibrary.org/event/preschool-story-time-3/2025-05-29/
LOCATION:Cortland Free Library\, 32 Church Street\, Cortland\, NY\, 13045\, United States
ATTACH;FMTTYPE=image/png:https://cortlandfreelibrary.org/wp-content/uploads/2022/01/unnamed.png
END:VEVENT
BEGIN:VEVENT
DTSTART;TZID=UTC:20250529T170000
DTEND;TZID=UTC:20250529T200000
DTSTAMP:20260421T112716
CREATED:20240501T232556Z
LAST-MODIFIED:20240626T214711Z
UID:10005049-1748538000-1748548800@cortlandfreelibrary.org
SUMMARY:Chess Club
DESCRIPTION:An all ages chess club for beginners and experts.  Meets every Thursday at 5 p.m. Beginners will get a lesson on the basics of chess and experts can meet and play.
URL:https://cortlandfreelibrary.org/event/chess-club-2-4/2025-05-29/
LOCATION:Cortland Free Library\, 32 Church Street\, Cortland\, NY\, 13045\, United States
CATEGORIES:Adult Services Program
ATTACH;FMTTYPE=image/png:https://cortlandfreelibrary.org/wp-content/uploads/2022/01/chess-pieces2.png
END:VEVENT
END:VCALENDAR