BEGIN:VCALENDAR
VERSION:2.0
PRODID:-//Cortland Free Library - ECPv6.15.17.1//NONSGML v1.0//EN
CALSCALE:GREGORIAN
METHOD:PUBLISH
X-WR-CALNAME:Cortland Free Library
X-ORIGINAL-URL:https://cortlandfreelibrary.org
X-WR-CALDESC:Events for Cortland Free Library
REFRESH-INTERVAL;VALUE=DURATION:PT1H
X-Robots-Tag:noindex
X-PUBLISHED-TTL:PT1H
BEGIN:VTIMEZONE
TZID:America/New_York
BEGIN:DAYLIGHT
TZOFFSETFROM:-0500
TZOFFSETTO:-0400
TZNAME:EDT
DTSTART:20240310T070000
END:DAYLIGHT
BEGIN:STANDARD
TZOFFSETFROM:-0400
TZOFFSETTO:-0500
TZNAME:EST
DTSTART:20241103T060000
END:STANDARD
BEGIN:DAYLIGHT
TZOFFSETFROM:-0500
TZOFFSETTO:-0400
TZNAME:EDT
DTSTART:20250309T070000
END:DAYLIGHT
BEGIN:STANDARD
TZOFFSETFROM:-0400
TZOFFSETTO:-0500
TZNAME:EST
DTSTART:20251102T060000
END:STANDARD
BEGIN:DAYLIGHT
TZOFFSETFROM:-0500
TZOFFSETTO:-0400
TZNAME:EDT
DTSTART:20260308T070000
END:DAYLIGHT
BEGIN:STANDARD
TZOFFSETFROM:-0400
TZOFFSETTO:-0500
TZNAME:EST
DTSTART:20261101T060000
END:STANDARD
END:VTIMEZONE
BEGIN:VTIMEZONE
TZID:UTC
BEGIN:STANDARD
TZOFFSETFROM:+0000
TZOFFSETTO:+0000
TZNAME:UTC
DTSTART:20240101T000000
END:STANDARD
END:VTIMEZONE
BEGIN:VEVENT
DTSTART;TZID=America/New_York:20250909T103000
DTEND;TZID=America/New_York:20250909T110000
DTSTAMP:20260422T110008
CREATED:20241121T135334Z
LAST-MODIFIED:20241121T135404Z
UID:10006589-1757413800-1757415600@cortlandfreelibrary.org
SUMMARY:Baby/Toddler Time
DESCRIPTION:Rhymes\, stories\, and songs designed for children from birth to age 2 & their caregivers. Registration is recommended.
URL:https://cortlandfreelibrary.org/event/baby-toddler-time-2/2025-09-09/
LOCATION:Cortland Free Library\, 32 Church Street\, Cortland\, NY\, 13045\, United States
ATTACH;FMTTYPE=image/png:https://cortlandfreelibrary.org/wp-content/uploads/2022/01/1280860803167512425baby-boy-with-teddy-md.png
END:VEVENT
BEGIN:VEVENT
DTSTART;TZID=America/New_York:20250910T183000
DTEND;TZID=America/New_York:20250910T193000
DTSTAMP:20260422T110008
CREATED:20250902T204101Z
LAST-MODIFIED:20250902T204101Z
UID:10008706-1757529000-1757532600@cortlandfreelibrary.org
SUMMARY:Writing Group
DESCRIPTION:We are all writers! At least we are as soon as we start writing! This group is designed for writers of all ability and experience levels.  It is an open platform for writers to explore personal and creative writing. Through peer support\, all writers will build skills within a supportive and inspiring community.  Meant to inspire\, educate\, and connect local writers. Ages 18 and up.
URL:https://cortlandfreelibrary.org/event/writing-group-6/
LOCATION:Cortland Free Library\, 32 Church Street\, Cortland\, NY\, 13045\, United States
ATTACH;FMTTYPE=image/png:https://cortlandfreelibrary.org/wp-content/uploads/2025/08/Writing-Group-logo.png
END:VEVENT
BEGIN:VEVENT
DTSTART;TZID=America/New_York:20250911T103000
DTEND;TZID=America/New_York:20250911T110000
DTSTAMP:20260422T110008
CREATED:20240614T183249Z
LAST-MODIFIED:20240705T162257Z
UID:10005529-1757586600-1757588400@cortlandfreelibrary.org
SUMMARY:Preschool Story Time
DESCRIPTION:Stories\, songs\, and activities with a different theme each week. All ages are welcome but this program is designed for children ages 3-5 yrs.
URL:https://cortlandfreelibrary.org/event/preschool-story-time-3/2025-09-11/
LOCATION:Cortland Free Library\, 32 Church Street\, Cortland\, NY\, 13045\, United States
ATTACH;FMTTYPE=image/png:https://cortlandfreelibrary.org/wp-content/uploads/2022/01/unnamed.png
END:VEVENT
BEGIN:VEVENT
DTSTART;TZID=UTC:20250911T170000
DTEND;TZID=UTC:20250911T200000
DTSTAMP:20260422T110008
CREATED:20240501T232556Z
LAST-MODIFIED:20240626T214711Z
UID:10005064-1757610000-1757620800@cortlandfreelibrary.org
SUMMARY:Chess Club
DESCRIPTION:An all ages chess club for beginners and experts.  Meets every Thursday at 5 p.m. Beginners will get a lesson on the basics of chess and experts can meet and play.
URL:https://cortlandfreelibrary.org/event/chess-club-2-4/2025-09-11/
LOCATION:Cortland Free Library\, 32 Church Street\, Cortland\, NY\, 13045\, United States
CATEGORIES:Adult Services Program
ATTACH;FMTTYPE=image/png:https://cortlandfreelibrary.org/wp-content/uploads/2022/01/chess-pieces2.png
END:VEVENT
BEGIN:VEVENT
DTSTART;TZID=America/New_York:20250911T183000
DTEND;TZID=America/New_York:20250911T200000
DTSTAMP:20260422T110008
CREATED:20250902T204559Z
LAST-MODIFIED:20250902T204559Z
UID:10008709-1757615400-1757620800@cortlandfreelibrary.org
SUMMARY:History Buffs' Book Club
DESCRIPTION:Do you enjoy history? Join us at the library to discuss historical Trials and Scandals.   We choose the topic\, You choose the book! Contact the library with any questions!
URL:https://cortlandfreelibrary.org/event/history-buffs-book-club-43/
LOCATION:Cortland Free Library\, 32 Church Street\, Cortland\, NY\, 13045\, United States
CATEGORIES:Book Club
END:VEVENT
BEGIN:VEVENT
DTSTART;TZID=America/New_York:20250913T103000
DTEND;TZID=America/New_York:20250913T120000
DTSTAMP:20260422T110008
CREATED:20250827T203739Z
LAST-MODIFIED:20250827T204620Z
UID:10008704-1757759400-1757764800@cortlandfreelibrary.org
SUMMARY:Superspace SuperFUN!
DESCRIPTION:Come preview our new Superspace Life-Size Magnetic Playset! We need help testing our new life-size building set. Join us for an open-playtime where children (and caregivers) can use their imagination to create different structures such as forts\, reading nooks\, vehicles and more. While this program is geared towards children 4-12 years all families are welcome.
URL:https://cortlandfreelibrary.org/event/superspace-superfun/
LOCATION:Cortland Free Library\, 32 Church Street\, Cortland\, NY\, 13045\, United States
ATTACH;FMTTYPE=image/png:https://cortlandfreelibrary.org/wp-content/uploads/2025/08/SuperSpace-Free-Play.png
END:VEVENT
END:VCALENDAR