BEGIN:VCALENDAR
VERSION:2.0
PRODID:-//Cortland Free Library - ECPv6.15.17.1//NONSGML v1.0//EN
CALSCALE:GREGORIAN
METHOD:PUBLISH
X-WR-CALNAME:Cortland Free Library
X-ORIGINAL-URL:https://cortlandfreelibrary.org
X-WR-CALDESC:Events for Cortland Free Library
REFRESH-INTERVAL;VALUE=DURATION:PT1H
X-Robots-Tag:noindex
X-PUBLISHED-TTL:PT1H
BEGIN:VTIMEZONE
TZID:America/New_York
BEGIN:DAYLIGHT
TZOFFSETFROM:-0500
TZOFFSETTO:-0400
TZNAME:EDT
DTSTART:20210314T070000
END:DAYLIGHT
BEGIN:STANDARD
TZOFFSETFROM:-0400
TZOFFSETTO:-0500
TZNAME:EST
DTSTART:20211107T060000
END:STANDARD
BEGIN:DAYLIGHT
TZOFFSETFROM:-0500
TZOFFSETTO:-0400
TZNAME:EDT
DTSTART:20220313T070000
END:DAYLIGHT
BEGIN:STANDARD
TZOFFSETFROM:-0400
TZOFFSETTO:-0500
TZNAME:EST
DTSTART:20221106T060000
END:STANDARD
BEGIN:DAYLIGHT
TZOFFSETFROM:-0500
TZOFFSETTO:-0400
TZNAME:EDT
DTSTART:20230312T070000
END:DAYLIGHT
BEGIN:STANDARD
TZOFFSETFROM:-0400
TZOFFSETTO:-0500
TZNAME:EST
DTSTART:20231105T060000
END:STANDARD
END:VTIMEZONE
BEGIN:VEVENT
DTSTART;TZID=America/New_York:20220726T103000
DTEND;TZID=America/New_York:20220726T113000
DTSTAMP:20260424T025635
CREATED:20220525T202738Z
LAST-MODIFIED:20220525T202738Z
UID:10001766-1658831400-1658835000@cortlandfreelibrary.org
SUMMARY:Arts\, Parks & Books
DESCRIPTION:Select Tuesdays in July at 10:30 a.m. in Court House Park. Join us for fun and entertainment! \nJuly 12 – Nate’s Music Show \nJuly 19 – Bubblemania \nJuly 26 – The REV Theatre Co. \n  \n(Sponsored by Cortland Free Library & Cortland Youth Bureau)
URL:https://cortlandfreelibrary.org/event/arts-parks-books/2022-07-26/
LOCATION:Court House Park\, Cortland\, NY\, 13045\, United States
CATEGORIES:Special Event,Youth Services Program
ATTACH;FMTTYPE=image/png:https://cortlandfreelibrary.org/wp-content/uploads/2022/05/Untitled1-1.png
END:VEVENT
BEGIN:VEVENT
DTSTART;TZID=America/New_York:20220719T103000
DTEND;TZID=America/New_York:20220719T113000
DTSTAMP:20260424T025635
CREATED:20220525T202738Z
LAST-MODIFIED:20220525T202738Z
UID:10001765-1658226600-1658230200@cortlandfreelibrary.org
SUMMARY:Arts\, Parks & Books
DESCRIPTION:Select Tuesdays in July at 10:30 a.m. in Court House Park. Join us for fun and entertainment! \nJuly 12 – Nate’s Music Show \nJuly 19 – Bubblemania \nJuly 26 – The REV Theatre Co. \n  \n(Sponsored by Cortland Free Library & Cortland Youth Bureau)
URL:https://cortlandfreelibrary.org/event/arts-parks-books/2022-07-19/
LOCATION:Court House Park\, Cortland\, NY\, 13045\, United States
CATEGORIES:Special Event,Youth Services Program
ATTACH;FMTTYPE=image/png:https://cortlandfreelibrary.org/wp-content/uploads/2022/05/Untitled1-1.png
END:VEVENT
BEGIN:VEVENT
DTSTART;TZID=America/New_York:20220712T103000
DTEND;TZID=America/New_York:20220712T113000
DTSTAMP:20260424T025635
CREATED:20220525T202738Z
LAST-MODIFIED:20220525T202738Z
UID:10001764-1657621800-1657625400@cortlandfreelibrary.org
SUMMARY:Arts\, Parks & Books
DESCRIPTION:Select Tuesdays in July at 10:30 a.m. in Court House Park. Join us for fun and entertainment! \nJuly 12 – Nate’s Music Show \nJuly 19 – Bubblemania \nJuly 26 – The REV Theatre Co. \n  \n(Sponsored by Cortland Free Library & Cortland Youth Bureau)
URL:https://cortlandfreelibrary.org/event/arts-parks-books/2022-07-12/
LOCATION:Court House Park\, Cortland\, NY\, 13045\, United States
CATEGORIES:Special Event,Youth Services Program
ATTACH;FMTTYPE=image/png:https://cortlandfreelibrary.org/wp-content/uploads/2022/05/Untitled1-1.png
END:VEVENT
END:VCALENDAR